BEGIN:VCALENDAR
PRODID:-//Microsoft Corporation//Outlook 12.0 MIMEDIR//EN
VERSION:2.0
METHOD:PUBLISH
X-MS-OLK-FORCEINSPECTOROPEN:TRUE
BEGIN:VEVENT
CLASS:PUBLIC
CREATED:20260420T002921Z
DESCRIPTION:CON EL REGISTRO A UN WEBINAR DE LA SERIE YA ES SUFICIENTE. \nPUEDES ENTRAR CON EL MISMO LINK A TODA LA SERIE. \n \nVER AGENDA EN AHORATURISMO.COM\nDataFlow, basará su webinar en un StoryTelling sobre la transición de Excel a PowerBI.\n \n \n \n
DTSTART:20200330T180000
DTEND:20200330T190000
DTSTAMP:20260420T002921Z
LOCATION:Online
PRIORITY:5
SEQUENCE:0
SUMMARY;LANGUAGE=es-es:Tecnowebinars.com - :: Del bi al BI
TRANSP:OPAQUE
UID:e7de2a7b123893ec5e4142c2748dff29 Tecnowebinars.com
X-MICROSOFT-CDO-BUSYSTATUS:BUSY
X-MICROSOFT-CDO-IMPORTANCE:1
X-MICROSOFT-DISALLOW-COUNTER:FALSE
X-MS-OLK-ALLOWEXTERNCHECK:TRUE
X-MS-OLK-AUTOFILLLOCATION:FALSE
X-MS-OLK-CONFTYPE:0
BEGIN:VALARM
TRIGGER:-PT1440M
ACTION:DISPLAY
DESCRIPTION:Reminder
END:VALARM
END:VEVENT
END:VCALENDAR
