BEGIN:VCALENDAR
PRODID:-//Microsoft Corporation//Outlook 12.0 MIMEDIR//EN
VERSION:2.0
METHOD:PUBLISH
X-MS-OLK-FORCEINSPECTOROPEN:TRUE
BEGIN:VEVENT
CLASS:PUBLIC
CREATED:20260420T003629Z
DESCRIPTION:CON EL REGISTRO A UN WEBINAR DE LA SERIE YA ES SUFICIENTE. \nPUEDES ENTRAR CON EL MISMO LINK A TODA LA SERIE. \n \nVER AGENDA EN AHORATURISMO.COM\nLa contratación para destinos de hoteles vacacionales, especialmente de Islas supone un reto. En este webinar aprenderás a como poder afrontarlo de la manera más rentable .\n \n \n \n
DTSTART:20200407T180000
DTEND:20200407T190000
DTSTAMP:20260420T003629Z
LOCATION:Online
PRIORITY:5
SEQUENCE:0
SUMMARY;LANGUAGE=es-es:Tecnowebinars.com - :: La rentabilidad en Hoteles de destino Islas. Visiones de comercialización
TRANSP:OPAQUE
UID:1b8f91af4a9e29734505699d5759c54e Tecnowebinars.com
X-MICROSOFT-CDO-BUSYSTATUS:BUSY
X-MICROSOFT-CDO-IMPORTANCE:1
X-MICROSOFT-DISALLOW-COUNTER:FALSE
X-MS-OLK-ALLOWEXTERNCHECK:TRUE
X-MS-OLK-AUTOFILLLOCATION:FALSE
X-MS-OLK-CONFTYPE:0
BEGIN:VALARM
TRIGGER:-PT1440M
ACTION:DISPLAY
DESCRIPTION:Reminder
END:VALARM
END:VEVENT
END:VCALENDAR
