BEGIN:VCALENDAR
PRODID:-//Microsoft Corporation//Outlook 12.0 MIMEDIR//EN
VERSION:2.0
METHOD:PUBLISH
X-MS-OLK-FORCEINSPECTOROPEN:TRUE
BEGIN:VEVENT
CLASS:PUBLIC
CREATED:20260420T002841Z
DESCRIPTION:CON EL REGISTRO A UN WEBINAR DE LA SERIE YA ES SUFICIENTE. \nPUEDES ENTRAR CON EL MISMO LINK A TODA LA SERIE. \n \nVER AGENDA EN AHORATURISMO.COM\nAprenderemos a ver cómo se puede auditar una web y mejorar sus contenidos. Un webinar en el que podremos descubrir cuales son los principales valores de una web optimizada.\n
DTSTART:20200403T160000
DTEND:20200403T170000
DTSTAMP:20260420T002841Z
LOCATION:Online
PRIORITY:5
SEQUENCE:0
SUMMARY;LANGUAGE=es-es:Tecnowebinars.com - :: Como auditar tu web
TRANSP:OPAQUE
UID:e6b1c48e6931642fec1f3d07e956f787 Tecnowebinars.com
X-MICROSOFT-CDO-BUSYSTATUS:BUSY
X-MICROSOFT-CDO-IMPORTANCE:1
X-MICROSOFT-DISALLOW-COUNTER:FALSE
X-MS-OLK-ALLOWEXTERNCHECK:TRUE
X-MS-OLK-AUTOFILLLOCATION:FALSE
X-MS-OLK-CONFTYPE:0
BEGIN:VALARM
TRIGGER:-PT1440M
ACTION:DISPLAY
DESCRIPTION:Reminder
END:VALARM
END:VEVENT
END:VCALENDAR
