BEGIN:VCALENDAR
PRODID:-//Microsoft Corporation//Outlook 12.0 MIMEDIR//EN
VERSION:2.0
METHOD:PUBLISH
X-MS-OLK-FORCEINSPECTOROPEN:TRUE
BEGIN:VEVENT
CLASS:PUBLIC
CREATED:20260420T002803Z
DESCRIPTION:CON EL REGISTRO A UN WEBINAR DE LA SERIE YA ES SUFICIENTE. \nPUEDES ENTRAR CON EL MISMO LINK A TODA LA SERIE. \n \nVER AGENDA EN AHORATURISMO.COM\nEl día a día en las estrategias de Revenue Management supone una batalla y en este webinar saldrán tips para poder enfrentarse a ese día a día buscando la mayor rentabilidad.\n
DTSTART:20200402T180000
DTEND:20200402T190000
DTSTAMP:20260420T002803Z
LOCATION:Online
PRIORITY:5
SEQUENCE:0
SUMMARY;LANGUAGE=es-es:Tecnowebinars.com - :: Revenue de Guerrillas
TRANSP:OPAQUE
UID:f2b069afeae18a900d268828e95aa967 Tecnowebinars.com
X-MICROSOFT-CDO-BUSYSTATUS:BUSY
X-MICROSOFT-CDO-IMPORTANCE:1
X-MICROSOFT-DISALLOW-COUNTER:FALSE
X-MS-OLK-ALLOWEXTERNCHECK:TRUE
X-MS-OLK-AUTOFILLLOCATION:FALSE
X-MS-OLK-CONFTYPE:0
BEGIN:VALARM
TRIGGER:-PT1440M
ACTION:DISPLAY
DESCRIPTION:Reminder
END:VALARM
END:VEVENT
END:VCALENDAR
