BEGIN:VCALENDAR
PRODID:-//Microsoft Corporation//Outlook 12.0 MIMEDIR//EN
VERSION:2.0
METHOD:PUBLISH
X-MS-OLK-FORCEINSPECTOROPEN:TRUE
BEGIN:VEVENT
CLASS:PUBLIC
CREATED:20260420T003708Z
DESCRIPTION:CON EL REGISTRO A UN WEBINAR DE LA SERIE YA ES SUFICIENTE. \nPUEDES ENTRAR CON EL MISMO LINK A TODA LA SERIE. \n \nVER AGENDA EN AHORATURISMO.COM\nLa atención al cliente como piedra angular sobre la que plantear la estrategia de crecimiento. Reforzar el control de la gestión del hotel e incentivar la atención al propio personal . Un webinar de cercanía con los recursos humanos del hotel .\n
DTSTART:20200401T180000
DTEND:20200401T190000
DTSTAMP:20260420T003708Z
LOCATION:Online
PRIORITY:5
SEQUENCE:0
SUMMARY;LANGUAGE=es-es:Tecnowebinars.com - :: La atención al cliente como diferenciación
TRANSP:OPAQUE
UID:99f9ec7b212e54d34dff6419520ddb57 Tecnowebinars.com
X-MICROSOFT-CDO-BUSYSTATUS:BUSY
X-MICROSOFT-CDO-IMPORTANCE:1
X-MICROSOFT-DISALLOW-COUNTER:FALSE
X-MS-OLK-ALLOWEXTERNCHECK:TRUE
X-MS-OLK-AUTOFILLLOCATION:FALSE
X-MS-OLK-CONFTYPE:0
BEGIN:VALARM
TRIGGER:-PT1440M
ACTION:DISPLAY
DESCRIPTION:Reminder
END:VALARM
END:VEVENT
END:VCALENDAR
