BEGIN:VCALENDAR
PRODID:-//Microsoft Corporation//Outlook 12.0 MIMEDIR//EN
VERSION:2.0
METHOD:PUBLISH
X-MS-OLK-FORCEINSPECTOROPEN:TRUE
BEGIN:VEVENT
CLASS:PUBLIC
CREATED:20260420T003629Z
DESCRIPTION:Daniel Asís, CEO de Greenfee Revenue . Nos hablará de como hacer que los campos de Golf puedan aplicar estrategias de Revenue management buscando la rentabilidad y la sostenibilidad de su negocio .\nDaniel es el impulsor de una nueva filosofía de comercialización en el mundo del Golf basada en datos en lugar de sensaciones.\n \n
DTSTART:20200408T180000
DTEND:20200408T190000
DTSTAMP:20260420T003629Z
LOCATION:Online
PRIORITY:5
SEQUENCE:0
SUMMARY;LANGUAGE=es-es:Tecnowebinars.com - :: El mundo del Golf , como comercializar y sacarle más rentabilidad mediante el Revenue management
TRANSP:OPAQUE
UID:12ff4e9f706220a6f95a8f0191e2da2a Tecnowebinars.com
X-MICROSOFT-CDO-BUSYSTATUS:BUSY
X-MICROSOFT-CDO-IMPORTANCE:1
X-MICROSOFT-DISALLOW-COUNTER:FALSE
X-MS-OLK-ALLOWEXTERNCHECK:TRUE
X-MS-OLK-AUTOFILLLOCATION:FALSE
X-MS-OLK-CONFTYPE:0
BEGIN:VALARM
TRIGGER:-PT1440M
ACTION:DISPLAY
DESCRIPTION:Reminder
END:VALARM
END:VEVENT
END:VCALENDAR
