BEGIN:VCALENDAR
PRODID:-//Microsoft Corporation//Outlook 12.0 MIMEDIR//EN
VERSION:2.0
METHOD:PUBLISH
X-MS-OLK-FORCEINSPECTOROPEN:TRUE
BEGIN:VEVENT
CLASS:PUBLIC
CREATED:20260420T003736Z
DESCRIPTION:A Digital event designed exclusively for Directors, Heads, Managers and VP of Business Optimization, Continuous Improvement, Maintainance, Operational Excellence, Operations Reliability, Risk/Risk Management and Enterprise Architects in the Oil, Gas & Energy sector, and all those who are responsible for operations within their organisation.\n \nLearn first-hand from the experts through cutting edge case studies by end-user experts at the forefront of digital transformation and operational optimization in the oil, gas and energy sector\n \nUnpack the strategies which Energy sector companies are now adopting to make the digital transformation journey more achievable in a shorter space of time\n \nDiscover how Emerging Tech, Automation, AI and Data Analytics can help you manage and monitor equipment and resources more effectively, particularly across your remotest locations\n \nImprove reliability and gain better visibility into your operations - including your networks, processes and systems - to find out what is working well and what needs to be optimized  \n \n
DTSTART:20200422T130000
DTEND:20200422T173000
DTSTAMP:20260420T003736Z
LOCATION:Online
PRIORITY:5
SEQUENCE:0
SUMMARY;LANGUAGE=es-es:Tecnowebinars.com - :: OPEX in Oil & Gas 2020 DAY 1
TRANSP:OPAQUE
UID:e4706bc0bca9d2039f7611dea2094f4f Tecnowebinars.com
X-MICROSOFT-CDO-BUSYSTATUS:BUSY
X-MICROSOFT-CDO-IMPORTANCE:1
X-MICROSOFT-DISALLOW-COUNTER:FALSE
X-MS-OLK-ALLOWEXTERNCHECK:TRUE
X-MS-OLK-AUTOFILLLOCATION:FALSE
X-MS-OLK-CONFTYPE:0
BEGIN:VALARM
TRIGGER:-PT1440M
ACTION:DISPLAY
DESCRIPTION:Reminder
END:VALARM
END:VEVENT
END:VCALENDAR
