BEGIN:VCALENDAR
PRODID:-//Microsoft Corporation//Outlook 12.0 MIMEDIR//EN
VERSION:2.0
METHOD:PUBLISH
X-MS-OLK-FORCEINSPECTOROPEN:TRUE
BEGIN:VEVENT
CLASS:PUBLIC
CREATED:20260420T003925Z
DESCRIPTION:The FDA is increasing its focus on cybersecurity in medical devices and hospital systems. At the same time, technical trends like IoT connectivity, Machine Learning, and Artificial Intelligence are increasing the attack surface of these devices and systems.\nThe medical industry is joining other industries in developing or borrowing—mainly from the military—security techniques and technologies to improve and secure complex medical systems as well as medical IoT. The Industrial Internet Consortium (IIC) has compiled guidance and best practices.\nOne area of IIC focus is data communications that underpin IoT systems, like the battle-tested and security-hardened Data Distribution Service (DDS) open standard. Connectivity with DDS not only provides much improved resilience, scalability and data comms performance, it also provides a fine-grained, military-grade security model. The US military tested DDS on their cybersecurity test range and now militaries around the world use DDS Security in their critical systems.\nDDS and its security model is equally applicable to medical systems, whether the goal is to protect patient privacy or improve the quality and efficiency of care. Come hear more about how to clear the rising bar for cybersecurity by using a fine-grained interconnectivity standard like DDS. We will discuss its application to IoT systems in medical and other industries as well as the details of how the DDS security model works.\n
DTSTART:20200331T190000
DTEND:20200331T200000
DTSTAMP:20260420T003925Z
LOCATION:Online
PRIORITY:5
SEQUENCE:0
SUMMARY;LANGUAGE=es-es:Tecnowebinars.com - :: Ciberseguridad militar en dispositivos médicos con DDS
TRANSP:OPAQUE
UID:e9eb844fab01414352d32a746ff6dfe7 Tecnowebinars.com
X-MICROSOFT-CDO-BUSYSTATUS:BUSY
X-MICROSOFT-CDO-IMPORTANCE:1
X-MICROSOFT-DISALLOW-COUNTER:FALSE
X-MS-OLK-ALLOWEXTERNCHECK:TRUE
X-MS-OLK-AUTOFILLLOCATION:FALSE
X-MS-OLK-CONFTYPE:0
BEGIN:VALARM
TRIGGER:-PT1440M
ACTION:DISPLAY
DESCRIPTION:Reminder
END:VALARM
END:VEVENT
END:VCALENDAR
