BEGIN:VCALENDAR
PRODID:-//Microsoft Corporation//Outlook 12.0 MIMEDIR//EN
VERSION:2.0
METHOD:PUBLISH
X-MS-OLK-FORCEINSPECTOROPEN:TRUE
BEGIN:VEVENT
CLASS:PUBLIC
CREATED:20260420T003807Z
DESCRIPTION:Get real-world expert insights on the how, why and when to use a hybrid cloud environment!\n \nJoin us for this free three-hour virtual event to introduce you to the state of the art and best practices for making the most of a hybrid cloud infrastructure.\n \nThis multi-session event offers expert advice and unbiased case studies focused on real-world information you can immediately use. Sessions are moderated by our editorial team and feature presentations by analysts and experts in the field — all at no charge to attendees!\n \nKey takeaways will include strategies and tactics for addressing top management issues and a framework for understanding the pros and cons of various configuration options.\n \nSessions include:\n \n9am PT: Public vs. Private vs. Hybrid: What Cloud to Use When and Why (or Why Not)\n10am PT: Managing a Hybrid Cloud Environment: Key Technologies and Tactics to Corral Your Complex Cloud Environment\n11am PT: Managing Multi-Cloud: Pros and Cons of Using One, Two or Three Public Clouds in Your Hybrid Environment \n
DTSTART:20200331T170000
DTEND:20200331T180000
DTSTAMP:20260420T003807Z
LOCATION:Online
PRIORITY:5
SEQUENCE:0
SUMMARY;LANGUAGE=es-es:Tecnowebinars.com - :: Enterprise Hybrid Cloud Virtual Summit. Por Microsoft. (Conferencia Online)
TRANSP:OPAQUE
UID:12d254aaa457e33256b757d87aeacaa9 Tecnowebinars.com
X-MICROSOFT-CDO-BUSYSTATUS:BUSY
X-MICROSOFT-CDO-IMPORTANCE:1
X-MICROSOFT-DISALLOW-COUNTER:FALSE
X-MS-OLK-ALLOWEXTERNCHECK:TRUE
X-MS-OLK-AUTOFILLLOCATION:FALSE
X-MS-OLK-CONFTYPE:0
BEGIN:VALARM
TRIGGER:-PT1440M
ACTION:DISPLAY
DESCRIPTION:Reminder
END:VALARM
END:VEVENT
END:VCALENDAR
