BEGIN:VCALENDAR
PRODID:-//Microsoft Corporation//Outlook 12.0 MIMEDIR//EN
VERSION:2.0
METHOD:PUBLISH
X-MS-OLK-FORCEINSPECTOROPEN:TRUE
BEGIN:VEVENT
CLASS:PUBLIC
CREATED:20260419T183200Z
DESCRIPTION:Is your accounting department plagued by tedious manual processes and a lack of invoice process oversight?\nWe can help! In this webinar you will learn how to process all incoming invoices automatically.\nDoxis4 is a solution certified for SAP that processes invoices intelligently and relieves you of manual work.\nThis makes it easier for you to adhere to cash discount periods and to plan your liquidity even better.\n
DTSTART:20200825T110000
DTEND:20200825T113000
DTSTAMP:20260419T183200Z
LOCATION:Online
PRIORITY:5
SEQUENCE:0
SUMMARY;LANGUAGE=es-es:Tecnowebinars.com - :: Invoice processes: Automated inbound invoice processing with ECM & SAP
TRANSP:OPAQUE
UID:0fd55e258f26ddf3fef141bf8ce1d616 Tecnowebinars.com
X-MICROSOFT-CDO-BUSYSTATUS:BUSY
X-MICROSOFT-CDO-IMPORTANCE:1
X-MICROSOFT-DISALLOW-COUNTER:FALSE
X-MS-OLK-ALLOWEXTERNCHECK:TRUE
X-MS-OLK-AUTOFILLLOCATION:FALSE
X-MS-OLK-CONFTYPE:0
BEGIN:VALARM
TRIGGER:-PT1440M
ACTION:DISPLAY
DESCRIPTION:Reminder
END:VALARM
END:VEVENT
END:VCALENDAR
