BEGIN:VCALENDAR
PRODID:-//Microsoft Corporation//Outlook 12.0 MIMEDIR//EN
VERSION:2.0
METHOD:PUBLISH
X-MS-OLK-FORCEINSPECTOROPEN:TRUE
BEGIN:VEVENT
CLASS:PUBLIC
CREATED:20260419T225914Z
DESCRIPTION:Every day, employees create numerous documents, often with file names such as "Folder1.xls".\nThey are sent by email across the company, to chaotic file directories or even printed out and stored in paper folders.\nWho can find their way out of this document rabbit hole? In this webinar we will show you how eFiles save you from the chaos of document growth, plus create transparency and assurance about the status of your information.\n
DTSTART:20200514T110000
DTEND:20200514T113000
DTSTAMP:20260419T225914Z
LOCATION:Online
PRIORITY:5
SEQUENCE:0
SUMMARY;LANGUAGE=es-es:Tecnowebinars.com - :: Avoid the document rabbit hole – discover eFiles
TRANSP:OPAQUE
UID:6745d7323462e25494758861b91119b3 Tecnowebinars.com
X-MICROSOFT-CDO-BUSYSTATUS:BUSY
X-MICROSOFT-CDO-IMPORTANCE:1
X-MICROSOFT-DISALLOW-COUNTER:FALSE
X-MS-OLK-ALLOWEXTERNCHECK:TRUE
X-MS-OLK-AUTOFILLLOCATION:FALSE
X-MS-OLK-CONFTYPE:0
BEGIN:VALARM
TRIGGER:-PT1440M
ACTION:DISPLAY
DESCRIPTION:Reminder
END:VALARM
END:VEVENT
END:VCALENDAR
