BEGIN:VCALENDAR
PRODID:-//Microsoft Corporation//Outlook 12.0 MIMEDIR//EN
VERSION:2.0
METHOD:PUBLISH
X-MS-OLK-FORCEINSPECTOROPEN:TRUE
BEGIN:VEVENT
CLASS:PUBLIC
CREATED:20260422T172333Z
DESCRIPTION:Today’s security operations are often disjointed and constrained by limited visibility and false alerts. These issues can cost organizations valuable time, resources and effort, even as they increase the risk of an incident. FireEye Helix enables organizations to take control of any incident from alert to fix, and addresses traditional SIEM shortfalls while delivering highly efficient, low-maintenance security automation.\nJoin us for the first session in a series of upcoming webinars, as our experts highlight:\n•The power of the Mandiant Query Language (MQL) to perform searches and transform clauses\n•Best practices and common use cases for Helix to boost the effectiveness of your security operations\n•Essential Helix features that improve visibility across your security operations platform\nFollow along with a hands-on Helix demonstration of MQL during the session and receive samples of the MQL scripts used in the webinar. Stay with us after the presentation for an in-depth Q&A session with our experts.\n
DTSTART:20200324T170000
DTEND:20200324T180000
DTSTAMP:20260422T172333Z
LOCATION:Online
PRIORITY:5
SEQUENCE:0
SUMMARY;LANGUAGE=es-es:Tecnowebinars.com - :: FireEye Helix Explained - Mandiant Query Language Searches
TRANSP:OPAQUE
UID:1afa00d2169220ab7fb1af88881fd075 Tecnowebinars.com
X-MICROSOFT-CDO-BUSYSTATUS:BUSY
X-MICROSOFT-CDO-IMPORTANCE:1
X-MICROSOFT-DISALLOW-COUNTER:FALSE
X-MS-OLK-ALLOWEXTERNCHECK:TRUE
X-MS-OLK-AUTOFILLLOCATION:FALSE
X-MS-OLK-CONFTYPE:0
BEGIN:VALARM
TRIGGER:-PT1440M
ACTION:DISPLAY
DESCRIPTION:Reminder
END:VALARM
END:VEVENT
END:VCALENDAR
