BEGIN:VCALENDAR
PRODID:-//Microsoft Corporation//Outlook 12.0 MIMEDIR//EN
VERSION:2.0
METHOD:PUBLISH
X-MS-OLK-FORCEINSPECTOROPEN:TRUE
BEGIN:VEVENT
CLASS:PUBLIC
CREATED:20260420T003706Z
DESCRIPTION:El software Field Service Management (FSM) o software para Gestión de los servicios en Campo permite la gestión de intervenciones fuera de las instalaciones de la empresa. \n \nSe incluyen, entre otros, la gestión de solicitudes, la citación del cliente, la asignación de un técnico cualificado y la disponibilidad de la información y de los recursos adecuados. \n \nGracias a las nuevas tecnologías se pueden ofrecen la conectividad y el interfaz necesarios al trabajador que se desplaza para mejorar su rendimiento. \n \nLos FSM ofrecen una perspectiva global de las operaciones en campo de una organización y se encargan de definir y llevar a la práctica procesos de gestión optimizada de los mismos.\n \nHay que tener en cuenta que la oferta actual de servicios de valor añadido a los productos se ha disparado: extensiones de garantías, servicios de instalación, mantenimiento o reparación resultan cada vez más lucrativos para los fabricantes. También transmiten confianza y resultan cómodos a los consumidores.  \n \nKairos FSM\nKairos365FSM es una solución de gestión de las operaciones en el campo (FSM) en la nube para visualizar y gestionar todas las operaciones en el campo. \n \nKairos365FSM redefine el concepto de los FSM con una herramienta potente y altamente funcional, orientada en operaciones dinámicas y complejas y la satisfacción del cliente final. \n \nGracias a su versatilidad y su preparación para integrarse con cualquier otro sistema, Kairos365FSM es capaz de adaptarse rápidamente y responder ante cualquier demanda o situación del mercado. \n \n \nIntroducción al FSM y tendencias\n \nEn este Webinar, los expertos de Netboss Comunicaciones,  fabricantes del software, y expertos de Everis, consultora líder en transformación digital, nos darán una amplia perspectiva, muy orientada en las necesidades y las últimas tendencias del mercado, sobre lo que tu organización necesita para una optimizada gestión de estos servicios en campo.\n \nCompartirán su experiencia en proyectos reales para ayudarte a afrontar el camino hacía una transformación digital exitosa y responderán también a dudas y cuestiones por parte de la audiencia. \n \nEste Webinar es el primero dentro de nuestra serie sobre el FSM que iremos realizando en Tecnowebinars.com\n \nAgenda\n \n       -	Ya es hora de modernizar y digitalizar tus servicios en el campo:\n       -	Definición FSM & ventajas de un FSM, \n       -	El contexto de mercado en el que se necesitan: Servitización como caso de negocio y la experiencia del usuario como moneda en sí misma. \n \n       -	Cuando necesitas un FSM – cuando los softwares de gestión genéricos no son suficientes: \n       -	Funcionalidades diferenciadoras de un FSM \n       -	Casos de uso y ejemplos de mejora en el rendimiento de empresa\n \n       -	Invertir en un FSM es ahorrar (en dinero y esfuerzo): los FSMs se amortizan. \n       -	Cómo elegir aquel FSM que es el mejor para ti: funcionalidades y preparación.  \n       -	¿Por qué Gartner dice “El FSM completo no existe”?\n       -	Opciones de personalización\n       -	Nuestro “Business Process Manager” – la definición perfecta de los procesos\n       -	En la nube u “on-premise”\n       -	La importancia crucial del soporte: no solo invierte en tecnología – sino también en la formación y el soporte – donde el proveedor puede ofrecer valor añadido en su solución\n \n \n \n
DTSTART:20200413T160000
DTEND:20200413T170000
DTSTAMP:20260420T003706Z
LOCATION:Online
PRIORITY:5
SEQUENCE:0
SUMMARY;LANGUAGE=es-es:Tecnowebinars.com - :: Field Service Management: Todo lo que deberías saber
TRANSP:OPAQUE
UID:275cca6a9c4afc77cd38b7c6feb0fd0f Tecnowebinars.com
X-MICROSOFT-CDO-BUSYSTATUS:BUSY
X-MICROSOFT-CDO-IMPORTANCE:1
X-MICROSOFT-DISALLOW-COUNTER:FALSE
X-MS-OLK-ALLOWEXTERNCHECK:TRUE
X-MS-OLK-AUTOFILLLOCATION:FALSE
X-MS-OLK-CONFTYPE:0
BEGIN:VALARM
TRIGGER:-PT1440M
ACTION:DISPLAY
DESCRIPTION:Reminder
END:VALARM
END:VEVENT
END:VCALENDAR
