BEGIN:VCALENDAR
PRODID:-//Microsoft Corporation//Outlook 12.0 MIMEDIR//EN
VERSION:2.0
METHOD:PUBLISH
X-MS-OLK-FORCEINSPECTOROPEN:TRUE
BEGIN:VEVENT
CLASS:PUBLIC
CREATED:20260420T003706Z
DESCRIPTION:VER VIDEO\nTransformación Digital, Agilismo y entornos VUCA, son tres nominadores que estan en la agenda de todas las organizaciones que quieren evolucionar y crecer en el mercado, sin embargo a hoy son muchas las que confuden estos conceptos y terminan generando duelos organizacionales cada vez más profundos producto de la insatisfacción, el no alcanzar las metas y tener expectativas que no corresponden con el logro o el esfuerzo.\nA lo anterior se suma la baja preparación, en la experiencia y la práctica, que personas y organizaciones (haciendo énfasis en Cultura) tienen sobre estos temas, en donde se confuende la implementación de un ERP o un CRM con una Transformación Digital y el agilismo es equivalente a rapidez, todo lo cual dista en enorme medida del propósito y objetivo real que tienen.\nEs por ello que en este Webinar nuestros especialistas abordarán un aspecto esencial pero hasta ahora explorado sobre TD, Agile y Vuca: el factor humano y la cultura necesaria para afrontarlos, crecer, desarrolarse y obtener la generación de valor esperada, todo esto en un contexto humanista y sistémico que permite ver al ser humano como integrador y pieza clave del resultado.\nA quién está dirigido: Directivos, miembros de la alta dirección y nivel gerencial. Encargados y jefes de áreas y departamentos. Líderes de TI. Gerentes de proyectos – PMO, Expertos en agilismo, Consultores.\nLo que los participantes van a ver en este webinar es:\n- Temarios de Intro de TEC sobre TD, agilismo y Vuca.\n- En entornos Vuca se cambia o se transforma?\n- Como trabajar en, para y desde el SER.\n- Como se enlaza la TD y el agilismo en la realidad organizacional actual.\n- Buenas prácticas desde el factor humano para abordar la TD y el agilismo.\n- HCMBOK como base estructural de una verdadera transformación.\nLinks de soporte:\nEste es un Webinar muy básico que dimos en el 2015 y fue de nuerstras primeras experiencias aprendiendo sobre Webinar:\nhttps://www.tecnowebinars.com/webinar/396/gestion-del-cambio-en-proyectos-it/it-latinonet\n        www.tres60.co\n
DTSTART:20200402T160000
DTEND:20200402T170000
DTSTAMP:20260420T003706Z
LOCATION:Online
PRIORITY:5
SEQUENCE:0
SUMMARY;LANGUAGE=es-es:Tecnowebinars.com - :: Gestión de personas para después de una crisis: ¿Qué cambiará?
TRANSP:OPAQUE
UID:98eaa5ad08deabd34b87a0c1e38ea56c Tecnowebinars.com
X-MICROSOFT-CDO-BUSYSTATUS:BUSY
X-MICROSOFT-CDO-IMPORTANCE:1
X-MICROSOFT-DISALLOW-COUNTER:FALSE
X-MS-OLK-ALLOWEXTERNCHECK:TRUE
X-MS-OLK-AUTOFILLLOCATION:FALSE
X-MS-OLK-CONFTYPE:0
BEGIN:VALARM
TRIGGER:-PT1440M
ACTION:DISPLAY
DESCRIPTION:Reminder
END:VALARM
END:VEVENT
END:VCALENDAR
