BEGIN:VCALENDAR
PRODID:-//Microsoft Corporation//Outlook 12.0 MIMEDIR//EN
VERSION:2.0
METHOD:PUBLISH
X-MS-OLK-FORCEINSPECTOROPEN:TRUE
BEGIN:VEVENT
CLASS:PUBLIC
CREATED:20260419T231452Z
DESCRIPTION:Hay diferentes áreas donde empresas pertenecientes a la industria del automóvil, debe enfocarse para no tener problemas con los ciberataques y disponer por tanto de medidas efectivas de ciberseguridad.\n \nEn este Webinar, se explican las certificaciones específicas en materia de Seguridad Informática y Ciberseguridad en el sector del automóvil. A continuación se indica el índice del Webinar:\n  \n- Introducción a la ciberseguridad en la industria\n- Ciberseguridad para sistemas de control y automatización industrial, ISA 62443\n- SAE J3061 Buenas prácticas de EE. UU.\n        - Ciberseguridad para el sector del automóvil\n- TISAX en el sector del automóvil alemán \n
DTSTART:20200505T150000
DTEND:20200505T160000
DTSTAMP:20260419T231452Z
LOCATION:Online
PRIORITY:5
SEQUENCE:0
SUMMARY;LANGUAGE=es-es:Tecnowebinars.com - :: Automoción. Certificaciones de Seguridad Informática aplicadas al sector.
TRANSP:OPAQUE
UID:5be337f93ae43e42ffa313e894914656 Tecnowebinars.com
X-MICROSOFT-CDO-BUSYSTATUS:BUSY
X-MICROSOFT-CDO-IMPORTANCE:1
X-MICROSOFT-DISALLOW-COUNTER:FALSE
X-MS-OLK-ALLOWEXTERNCHECK:TRUE
X-MS-OLK-AUTOFILLLOCATION:FALSE
X-MS-OLK-CONFTYPE:0
BEGIN:VALARM
TRIGGER:-PT1440M
ACTION:DISPLAY
DESCRIPTION:Reminder
END:VALARM
END:VEVENT
END:VCALENDAR
