BEGIN:VCALENDAR
PRODID:-//Microsoft Corporation//Outlook 12.0 MIMEDIR//EN
VERSION:2.0
METHOD:PUBLISH
X-MS-OLK-FORCEINSPECTOROPEN:TRUE
BEGIN:VEVENT
CLASS:PUBLIC
CREATED:20260424T161402Z
DESCRIPTION:For the third consecutive year, at OpenExpo Europe we want to share the vision on technological trends on Open Source and Free Software.\n \nThis year 2019 we will see how IoT, IA, Big Data and many other technologies are going to stand out and how they will affect both our lives and the business world.\n \nOpenExpo Europe has prepared for you a study that gathers the trends that will enhance the use of FLOSS technologies. It has been possible thanks to the collaboration of over 100 professionals from the industry.\n \nIn the downloadable version of this eBook 2019, you will find the opinion of experts from organisations such as the Personnel Office of the Department in Rome Town, Vocento, BBVA Open Platform, ITH, Telefónica, and The Apache Software Foundation among many others from several sectors.\n \nOn Thursday 28th February 2019 at 17hrs (CET),  CECILIA COLASANTI, Councillor for Innovation at The Staff Office of Rome, DR TINA ALLTON, Head of International Expansion and CFO at EBW 2020, ROYA CHANG, CEO at FLEXBOT will join PHILIPPE LARDY, CEO at OpenExpo Europe to discuss and interact in a round table session, explaining the expected 2019 trends in Open Source, Free Software, Open Innovations, Blockchain, IoT, Machine Learning, among others. \n \nThe online attendees will be able to interact with the professionals by asking questions and giving out their opinions on these subjects.\n \n
DTSTART:20190306T170000
DTEND:20190306T180000
DTSTAMP:20260424T161402Z
LOCATION:Online
PRIORITY:5
SEQUENCE:0
SUMMARY;LANGUAGE=es-es:Tecnowebinars.com - :: prueba envio
TRANSP:OPAQUE
UID:1d3282078352f979fc84445c7bdd068b Tecnowebinars.com
X-MICROSOFT-CDO-BUSYSTATUS:BUSY
X-MICROSOFT-CDO-IMPORTANCE:1
X-MICROSOFT-DISALLOW-COUNTER:FALSE
X-MS-OLK-ALLOWEXTERNCHECK:TRUE
X-MS-OLK-AUTOFILLLOCATION:FALSE
X-MS-OLK-CONFTYPE:0
BEGIN:VALARM
TRIGGER:-PT1440M
ACTION:DISPLAY
DESCRIPTION:Reminder
END:VALARM
END:VEVENT
END:VCALENDAR
