BEGIN:VCALENDAR
PRODID:-//Microsoft Corporation//Outlook 12.0 MIMEDIR//EN
VERSION:2.0
METHOD:PUBLISH
X-MS-OLK-FORCEINSPECTOROPEN:TRUE
BEGIN:VEVENT
CLASS:PUBLIC
CREATED:20260423T204758Z
DESCRIPTION:¿Estás cansado de que, al final del proyecto, arreglar los bugs sea un infierno? ¿No consigues hacer que tu código responda fácilmente a cambios? Empieza a aplicar el Clean Code cuando programas y tu yo del futuro lo agradecerá. En esta charla aprenderás técnicas que todo buen programador debe seguir por su propio bien.\nEn esta charla se entiende que ya se tiene unos conocimientos de programación básico-intermedio, y se quiere mejorar el estilo para ser un buen programador. Se hablará de los puntos descritos en el Clean Code, con casos de ejemplo y explicando por qué son útiles para tí y para tu Proyecto.\nDespués de la charla, conocerás técnicas que te permitirán enfrentarte a proyectos de mayor tamaño, sin miedo a que los odiados bugs te coman. Aprenderás a separar responsabilidades, eliminar dependencias entre tareas, llevar un estilo legible y entendible, y otras muchas cosas más, Todo esto te será útil en tu día a dia y querrás mejorarlo con el tiempo.\n
DTSTART:20190326T190000
DTEND:20190326T200000
DTSTAMP:20260423T204758Z
LOCATION:Online
PRIORITY:5
SEQUENCE:0
SUMMARY;LANGUAGE=es-es:Tecnowebinars.com - :: Clean Code: cómo desarrollar un código fácil de debugear
TRANSP:OPAQUE
UID:1558129d8910f84d758162ebbec515ac Tecnowebinars.com
X-MICROSOFT-CDO-BUSYSTATUS:BUSY
X-MICROSOFT-CDO-IMPORTANCE:1
X-MICROSOFT-DISALLOW-COUNTER:FALSE
X-MS-OLK-ALLOWEXTERNCHECK:TRUE
X-MS-OLK-AUTOFILLLOCATION:FALSE
X-MS-OLK-CONFTYPE:0
BEGIN:VALARM
TRIGGER:-PT1440M
ACTION:DISPLAY
DESCRIPTION:Reminder
END:VALARM
END:VEVENT
END:VCALENDAR
