BEGIN:VCALENDAR
PRODID:-//Microsoft Corporation//Outlook 12.0 MIMEDIR//EN
VERSION:2.0
METHOD:PUBLISH
X-MS-OLK-FORCEINSPECTOROPEN:TRUE
BEGIN:VEVENT
CLASS:PUBLIC
CREATED:20260421T214438Z
DESCRIPTION:Fernando Mera, Director Preventa de Siemens y experto en Tecnomatix, ha preparado un webinar único de especial interés para el sector de maquinaria.\nDebido al aumento de le complejidad de las máquinas actuales y a los desafíos de diseño y/o fabricación que esto implica es necesario disponer de la mejor tecnología que permita, entre otros, acometer los desafíos de calidad de producto y la personalización de las máquinas, reduciendo los tiempos de entrega y por lo tanto aumentando el margen de beneficios.\nEn este webinar exclusivo, Siemens presentará su suite de soluciones, que abarcan todos los procesos del ciclo de vida de estas máquinas, desde su diseño hasta la validación virtual de los sistemas de control. Además, tras la presentación, se abrirá una ronda de preguntas y respuestas.\n
DTSTART:20150616T110000
DTEND:20150616T123000
DTSTAMP:20260421T214438Z
LOCATION:Online
PRIORITY:5
SEQUENCE:0
SUMMARY;LANGUAGE=es-es:Tecnowebinars.com - :: Validación Virtual de Diseño de la Fabricación y la Puesta a Punto de Maquinaria
TRANSP:OPAQUE
UID:98deb876ca0d408b370ad91a597d29f7 Tecnowebinars.com
X-MICROSOFT-CDO-BUSYSTATUS:BUSY
X-MICROSOFT-CDO-IMPORTANCE:1
X-MICROSOFT-DISALLOW-COUNTER:FALSE
X-MS-OLK-ALLOWEXTERNCHECK:TRUE
X-MS-OLK-AUTOFILLLOCATION:FALSE
X-MS-OLK-CONFTYPE:0
BEGIN:VALARM
TRIGGER:-PT1440M
ACTION:DISPLAY
DESCRIPTION:Reminder
END:VALARM
END:VEVENT
END:VCALENDAR
