BEGIN:VCALENDAR
PRODID:-//Microsoft Corporation//Outlook 12.0 MIMEDIR//EN
VERSION:2.0
METHOD:PUBLISH
X-MS-OLK-FORCEINSPECTOROPEN:TRUE
BEGIN:VEVENT
CLASS:PUBLIC
CREATED:20260423T164254Z
DESCRIPTION:La realidad aumentada es una de las experiencias en cuanto a aplicaciones móviles que está muy de moda y que ha generado una nueva gama de aplicaciones que más que ofrecer features al usuario ofrecen “experiencias”.\nExisten una gran cantidad de SDKs y librerías para facilitar el trabajo de desarrollo, integrables con tecnologías web que ya conocemos.\nEn este webinar conocerás las herramientas que nos permiten desarrollar aplicaciones con experiencias de realidad aumentada usando Javascript y Cordova, para desarrollo móvil híbrido. Se desarrollarán apps con reconocimiento de patrón de imagen, imágenes, vídeos y figuras 3d interactuando con la realidad a través de la cámara. Se explicarán las limitaciones de cada herramienta y el alcance al que podemos llegar.\n
DTSTART:20171005T190000
DTEND:20171005T200000
DTSTAMP:20260423T164254Z
LOCATION:Online
PRIORITY:5
SEQUENCE:0
SUMMARY;LANGUAGE=es-es:Tecnowebinars.com - :: Realidad aumentada en desarrollo de aplicaciones híbridas
TRANSP:OPAQUE
UID:b61de751b1bfd4700fab45f29c826db1 Tecnowebinars.com
X-MICROSOFT-CDO-BUSYSTATUS:BUSY
X-MICROSOFT-CDO-IMPORTANCE:1
X-MICROSOFT-DISALLOW-COUNTER:FALSE
X-MS-OLK-ALLOWEXTERNCHECK:TRUE
X-MS-OLK-AUTOFILLLOCATION:FALSE
X-MS-OLK-CONFTYPE:0
BEGIN:VALARM
TRIGGER:-PT1440M
ACTION:DISPLAY
DESCRIPTION:Reminder
END:VALARM
END:VEVENT
END:VCALENDAR
