BEGIN:VCALENDAR
PRODID:-//Microsoft Corporation//Outlook 12.0 MIMEDIR//EN
VERSION:2.0
METHOD:PUBLISH
X-MS-OLK-FORCEINSPECTOROPEN:TRUE
BEGIN:VEVENT
CLASS:PUBLIC
CREATED:20260425T025355Z
DESCRIPTION:Are the upcoming April 2026 Cyber Essentials Plus (CE+) updates creating uncertainty for your IT team?\nWith mandatory Multi-Factor Authentication (MFA) required for all cloud services and a rigorous 14-day window for critical updates now triggering immediate "auto-fails," the scheme’s enforcement standards have significantly increased.\n
DTSTART:20260427T110000
DTEND:20260427T120000
DTSTAMP:20260425T025355Z
LOCATION:Online
PRIORITY:5
SEQUENCE:0
SUMMARY;LANGUAGE=es-es:Tecnowebinars.com - :: Cyber Essentials Plus 2026: MFA Mandates, 14-Day Patching & What You Must Do Now
TRANSP:OPAQUE
UID:53ede6254243ee8e13efe9268c532b75 Tecnowebinars.com
X-MICROSOFT-CDO-BUSYSTATUS:BUSY
X-MICROSOFT-CDO-IMPORTANCE:1
X-MICROSOFT-DISALLOW-COUNTER:FALSE
X-MS-OLK-ALLOWEXTERNCHECK:TRUE
X-MS-OLK-AUTOFILLLOCATION:FALSE
X-MS-OLK-CONFTYPE:0
BEGIN:VALARM
TRIGGER:-PT1440M
ACTION:DISPLAY
DESCRIPTION:Reminder
END:VALARM
END:VEVENT
END:VCALENDAR
