BEGIN:VCALENDAR
PRODID:-//Microsoft Corporation//Outlook 12.0 MIMEDIR//EN
VERSION:2.0
METHOD:PUBLISH
X-MS-OLK-FORCEINSPECTOROPEN:TRUE
BEGIN:VEVENT
CLASS:PUBLIC
CREATED:20260425T025744Z
DESCRIPTION:The European managed services landscape is at a crossroads. As geopolitical tensions reshape data residency requirements and market consolidation triggers a radical shift in the hypervisor ecosystem, MSPs are searching for stability. Join Omdia Chief Analyst, Alastair Edwards, and Nutanix EMEA Leader for Service Provider Business, Pim Bultman, for an unscripted exploration of the forces redefining our industry.\nWe will dive deep into the “Broadcom effect” on VMware partners, the rising demand for sovereign cloud in the wake of regional instability, and how providers can turn these market disruptions into a competitive edge. This session isn’t about technology –it’s about strategy, survival, and the freedom to build a future that isn’t tied to a single vendor’s roadmap.\nIn conversation with Omdia.\n
DTSTART:20260430T090000
DTEND:20260430T100000
DTSTAMP:20260425T025744Z
LOCATION:Online
PRIORITY:5
SEQUENCE:0
SUMMARY;LANGUAGE=es-es:Tecnowebinars.com - :: Navigating the New Normal: Sovereignty, Shifts, and Service Provider Resilience
TRANSP:OPAQUE
UID:bcafa0629fe20d9c7b78f994dc28fdf3 Tecnowebinars.com
X-MICROSOFT-CDO-BUSYSTATUS:BUSY
X-MICROSOFT-CDO-IMPORTANCE:1
X-MICROSOFT-DISALLOW-COUNTER:FALSE
X-MS-OLK-ALLOWEXTERNCHECK:TRUE
X-MS-OLK-AUTOFILLLOCATION:FALSE
X-MS-OLK-CONFTYPE:0
BEGIN:VALARM
TRIGGER:-PT1440M
ACTION:DISPLAY
DESCRIPTION:Reminder
END:VALARM
END:VEVENT
END:VCALENDAR
