BEGIN:VCALENDAR
PRODID:-//Microsoft Corporation//Outlook 12.0 MIMEDIR//EN
VERSION:2.0
METHOD:PUBLISH
X-MS-OLK-FORCEINSPECTOROPEN:TRUE
BEGIN:VEVENT
CLASS:PUBLIC
CREATED:20260423T031417Z
DESCRIPTION:Quantum risk is a boardroom issue with real implications for business resilience, revenue protection, and regulatory exposure.\nJoin Keyfactor CSO Chris Hickman for a timely Digital Trust Talks conversation with Moriah Hara, 3x CISO, Founder CISO NextGen, as they break down the key findings from her latest board briefing: Post-Quantum Risk and Business Resilience: Implications for Revenue Exposure, Data Breach Risk, and Board Oversight.\nTogether, they’ll explore why the timeline mismatch between quantum threats and cryptographic migration is creating urgency now, how “harvest now, decrypt later” is already reshaping data risk, and what boards and executive teams should be doing today to avoid costly disruption tomorrow.\nThis discussion is designed for security and technology leaders, board members, and business decision-makers looking to understand the real-world impact of quantum computing on digital trust, compliance, and long-term resilience.\n
DTSTART:20260429T150000
DTEND:20260429T160000
DTSTAMP:20260423T031417Z
LOCATION:Online
PRIORITY:5
SEQUENCE:0
SUMMARY;LANGUAGE=es-es:Tecnowebinars.com - :: Quantum Risk & Business Resilience: A Boardroom Briefing
TRANSP:OPAQUE
UID:c07bba470fd62c92dd528eecb626dee2 Tecnowebinars.com
X-MICROSOFT-CDO-BUSYSTATUS:BUSY
X-MICROSOFT-CDO-IMPORTANCE:1
X-MICROSOFT-DISALLOW-COUNTER:FALSE
X-MS-OLK-ALLOWEXTERNCHECK:TRUE
X-MS-OLK-AUTOFILLLOCATION:FALSE
X-MS-OLK-CONFTYPE:0
BEGIN:VALARM
TRIGGER:-PT1440M
ACTION:DISPLAY
DESCRIPTION:Reminder
END:VALARM
END:VEVENT
END:VCALENDAR
