BEGIN:VCALENDAR
PRODID:-//Microsoft Corporation//Outlook 12.0 MIMEDIR//EN
VERSION:2.0
METHOD:PUBLISH
X-MS-OLK-FORCEINSPECTOROPEN:TRUE
BEGIN:VEVENT
CLASS:PUBLIC
CREATED:20260422T204235Z
DESCRIPTION:Automatización de procesos documentales con Cloverdoc: gana eficiencia en tu empresa\n \nLa mayoría de las empresas ya han dado el paso hacia la digitalización, pero pocas han conseguido realmente automatizar sus procesos documentales.\n \nEl resultado: tareas manuales, pérdida de tiempo y falta de control sobre la información.\n \n¿Y si pudieras gestionar toda la documentación de tu empresa de forma automática, ágil y sin errores?\n \nEn esta webinar descubrirás cómo soluciones como Cloverdoc permiten transformar la gestión documental en un proceso inteligente, eficiente y totalmente automatizado.\n \nSituación actual de la gestión documental en las empresas\nPrincipales problemas de los procesos manuales (tiempo, errores, falta de control)\nQué es la automatización documental y por qué es clave en la digitalización \nCómo optimizar la gestión de documentos en el día a día \nIntroducción a Cloverdoc: funcionalidades y ventajas \nCasos de uso reales en empresas \nBeneficios de automatizar: eficiencia, control y reducción de costes \nTurno de preguntas y resolución de dudas\n
DTSTART:20260423T180000
DTEND:20260423T190000
DTSTAMP:20260422T204235Z
LOCATION:Online
PRIORITY:5
SEQUENCE:0
SUMMARY;LANGUAGE=es-es:Tecnowebinars.com - :: Gestión documental: cómo automatizar, optimizar y controlar la información en tu empresa
TRANSP:OPAQUE
UID:a49e757f0ff051af1d3821ad3dc1f1da Tecnowebinars.com
X-MICROSOFT-CDO-BUSYSTATUS:BUSY
X-MICROSOFT-CDO-IMPORTANCE:1
X-MICROSOFT-DISALLOW-COUNTER:FALSE
X-MS-OLK-ALLOWEXTERNCHECK:TRUE
X-MS-OLK-AUTOFILLLOCATION:FALSE
X-MS-OLK-CONFTYPE:0
BEGIN:VALARM
TRIGGER:-PT1440M
ACTION:DISPLAY
DESCRIPTION:Reminder
END:VALARM
END:VEVENT
END:VCALENDAR
