BEGIN:VCALENDAR
PRODID:-//Microsoft Corporation//Outlook 12.0 MIMEDIR//EN
VERSION:2.0
METHOD:PUBLISH
X-MS-OLK-FORCEINSPECTOROPEN:TRUE
BEGIN:VEVENT
CLASS:PUBLIC
CREATED:20260422T134255Z
DESCRIPTION:Es la noche del deploy. Tu equipo tiene un release crítico. Todo lo que puede salir mal, saldrá mal.\n \nPero tienes el arsenal avanzado de Claude Code.\n \n6 ejercicios prácticos resueltos EN VIVO.\n
DTSTART:20260625T160000
DTEND:20260625T170000
DTSTAMP:20260422T134255Z
LOCATION:Online
PRIORITY:5
SEQUENCE:0
SUMMARY;LANGUAGE=es-es:Tecnowebinars.com - :: Integra IA en tus procesos de desarrollo. Parte II
TRANSP:OPAQUE
UID:841d167afd97e599baca7f9cde4c5fd6 Tecnowebinars.com
X-MICROSOFT-CDO-BUSYSTATUS:BUSY
X-MICROSOFT-CDO-IMPORTANCE:1
X-MICROSOFT-DISALLOW-COUNTER:FALSE
X-MS-OLK-ALLOWEXTERNCHECK:TRUE
X-MS-OLK-AUTOFILLLOCATION:FALSE
X-MS-OLK-CONFTYPE:0
BEGIN:VALARM
TRIGGER:-PT1440M
ACTION:DISPLAY
DESCRIPTION:Reminder
END:VALARM
END:VEVENT
END:VCALENDAR
