BEGIN:VCALENDAR
PRODID:-//Microsoft Corporation//Outlook 12.0 MIMEDIR//EN
VERSION:2.0
METHOD:PUBLISH
X-MS-OLK-FORCEINSPECTOROPEN:TRUE
BEGIN:VEVENT
CLASS:PUBLIC
CREATED:20260422T134026Z
DESCRIPTION:PeopleWorks no solo escribe código diseña procesos de modernización.\n \nTe guiamos en todo el camino: desde tu aplicación legacy hasta .NET 9, Blazor y la nube.\n \nCon o sin IA. El proceso funciona igual la IA solo lo acelera.\n
DTSTART:20260604T160000
DTEND:20260604T160000
DTSTAMP:20260422T134026Z
LOCATION:Online
PRIORITY:5
SEQUENCE:0
SUMMARY;LANGUAGE=es-es:Tecnowebinars.com - :: Moderniza tu aplicación con IA de 0 a 100%
TRANSP:OPAQUE
UID:fe54fb7c74e43030f9fcee0389676aca Tecnowebinars.com
X-MICROSOFT-CDO-BUSYSTATUS:BUSY
X-MICROSOFT-CDO-IMPORTANCE:1
X-MICROSOFT-DISALLOW-COUNTER:FALSE
X-MS-OLK-ALLOWEXTERNCHECK:TRUE
X-MS-OLK-AUTOFILLLOCATION:FALSE
X-MS-OLK-CONFTYPE:0
BEGIN:VALARM
TRIGGER:-PT1440M
ACTION:DISPLAY
DESCRIPTION:Reminder
END:VALARM
END:VEVENT
END:VCALENDAR
