BEGIN:VCALENDAR
PRODID:-//Microsoft Corporation//Outlook 12.0 MIMEDIR//EN
VERSION:2.0
METHOD:PUBLISH
X-MS-OLK-FORCEINSPECTOROPEN:TRUE
BEGIN:VEVENT
CLASS:PUBLIC
CREATED:20260422T132535Z
DESCRIPTION: Conoce las soluciones de PeopleWorks que agregan inteligencia artificial a tus reportes, formularios y aplicaciones existentes sin tocar una sola línea de tu código fuente.\n \nCuatro demos en vivo de productos reales en producción.\n \nSolicita tu demo personalizada al final.\n
DTSTART:20260506T160000
DTEND:20260506T170000
DTSTAMP:20260422T132535Z
LOCATION:Online
PRIORITY:5
SEQUENCE:0
SUMMARY;LANGUAGE=es-es:Tecnowebinars.com - :: Integra IA en tu aplicativo sin cambiarlo
TRANSP:OPAQUE
UID:818e356b4a15dbc254b8d0c991d99446 Tecnowebinars.com
X-MICROSOFT-CDO-BUSYSTATUS:BUSY
X-MICROSOFT-CDO-IMPORTANCE:1
X-MICROSOFT-DISALLOW-COUNTER:FALSE
X-MS-OLK-ALLOWEXTERNCHECK:TRUE
X-MS-OLK-AUTOFILLLOCATION:FALSE
X-MS-OLK-CONFTYPE:0
BEGIN:VALARM
TRIGGER:-PT1440M
ACTION:DISPLAY
DESCRIPTION:Reminder
END:VALARM
END:VEVENT
END:VCALENDAR
