BEGIN:VCALENDAR
PRODID:-//Microsoft Corporation//Outlook 12.0 MIMEDIR//EN
VERSION:2.0
METHOD:PUBLISH
X-MS-OLK-FORCEINSPECTOROPEN:TRUE
BEGIN:VEVENT
CLASS:PUBLIC
CREATED:20260422T133119Z
DESCRIPTION:Does your automation strategy feel trapped in a silo, waiting on a handful of experts to execute every request? The secret to scaling isn't just writing more playbooks, it’s changing who can run them.  We will explore how Ansible Automation Platform serves as the bridge between centralized control and decentralized productivity. You will learn how to transition from a "ticket-based" automation model to a self-service architecture that empowers your developers, operators, and line-of-business teams to trigger verified automation on demand.\nLive event not at the best time for you? In order to support our global partner ecosystem, all webinars are available on-demand after the live event.\n*Red Hat collects your personal data when you submit information as a part of the registration process within BrightTalk. By registering for any of our webinars, you agree that Red Hat may contact you via email in regards to the webinars. If additional email opt-in is required for Red Hat to notify you about products, services and events that may be of interest to you other than these webinars, Red Hat will confirm opt-in via email. You may opt out of Red Hat’s marketing emails at any time via our Preference Center: https://connect.redhat.com/en/partner-preferences. For more information on each party’s privacy practices, please see: Red Hat’s  Privacy Statement (https://www.redhat.com/en/about/privacy-policy)\n
DTSTART:20260526T130000
DTEND:20260526T140000
DTSTAMP:20260422T133119Z
LOCATION:Online
PRIORITY:5
SEQUENCE:0
SUMMARY;LANGUAGE=es-es:Tecnowebinars.com - :: Put Automation in Their Hands:  Driving Faster Automation Adoption Across Your Organization
TRANSP:OPAQUE
UID:a51814848635b930e2a899b39bee39e6 Tecnowebinars.com
X-MICROSOFT-CDO-BUSYSTATUS:BUSY
X-MICROSOFT-CDO-IMPORTANCE:1
X-MICROSOFT-DISALLOW-COUNTER:FALSE
X-MS-OLK-ALLOWEXTERNCHECK:TRUE
X-MS-OLK-AUTOFILLLOCATION:FALSE
X-MS-OLK-CONFTYPE:0
BEGIN:VALARM
TRIGGER:-PT1440M
ACTION:DISPLAY
DESCRIPTION:Reminder
END:VALARM
END:VEVENT
END:VCALENDAR
