BEGIN:VCALENDAR
PRODID:-//Microsoft Corporation//Outlook 12.0 MIMEDIR//EN
VERSION:2.0
METHOD:PUBLISH
X-MS-OLK-FORCEINSPECTOROPEN:TRUE
BEGIN:VEVENT
CLASS:PUBLIC
CREATED:20260422T134602Z
DESCRIPTION:Transform your IT operations with AI-driven observability and automation. In this webinar, see how Splunk and Red Hat Event-Driven Ansible create a unified AIOps strategy to turn alerts into fast, consistent responses. Learn to trigger automated remediation, reducing MTTR and alert fatigue.\nWe’ll showcase four new Ansible Content Collections for Splunk that enable event-driven automation, closed-loop capabilities, and enterprise-wide administration. Discover how Splunk's AI-powered analytics and Ansible’s flexible automation help manage hybrid clouds and compliance. You’ll leave with practical strategies to operationalize AIOps and build an intelligent, modern IT environment across your entire stack.\nLive event not at the best time for you? In order to support our global partner ecosystem, all webinars are available on-demand after the live event.\n*This webinar is co-hosted in partnership with Splunk and Red Hat. As a result, both Red Hat and Splunk collect your personal data when you submit information as part of the registration process. By registering for any of our webinars, you agree that Red Hat, as well as Splunk, may contact you via email in regards to the webinars. If additional email opt-in is required for Red Hat to notify you about products, services and events that may be of interest to you other than these webinars, Red Hat will confirm opt-in via email. You may opt-out of Red Hat’s marketing emails at any time via our Preference Center: https://connect.redhat.com/en/partner-preferences. You may opt-out of Splunk emails at any time via their preference management:  [https://www.cisco.com/c/en/us/about/legal/privacy-full.html]. For more information on each party’s privacy practices, please see: Red Hat’s  Privacy Statement (https://www.redhat.com/en/about/privacy-policy) and Splunk privacy policy [(https://privacyrequest.cisco.com/)].\n
DTSTART:20260617T150000
DTEND:20260617T160000
DTSTAMP:20260422T134602Z
LOCATION:Online
PRIORITY:5
SEQUENCE:0
SUMMARY;LANGUAGE=es-es:Tecnowebinars.com - :: Splunk and Red Hat: Accelerate AIOps with insights-to-action automation
TRANSP:OPAQUE
UID:0c480f5987dab723d93ba4b5674b7e86 Tecnowebinars.com
X-MICROSOFT-CDO-BUSYSTATUS:BUSY
X-MICROSOFT-CDO-IMPORTANCE:1
X-MICROSOFT-DISALLOW-COUNTER:FALSE
X-MS-OLK-ALLOWEXTERNCHECK:TRUE
X-MS-OLK-AUTOFILLLOCATION:FALSE
X-MS-OLK-CONFTYPE:0
BEGIN:VALARM
TRIGGER:-PT1440M
ACTION:DISPLAY
DESCRIPTION:Reminder
END:VALARM
END:VEVENT
END:VCALENDAR
