BEGIN:VCALENDAR
PRODID:-//Microsoft Corporation//Outlook 12.0 MIMEDIR//EN
VERSION:2.0
METHOD:PUBLISH
X-MS-OLK-FORCEINSPECTOROPEN:TRUE
BEGIN:VEVENT
CLASS:PUBLIC
CREATED:20260422T132408Z
DESCRIPTION:This webinar introduces the Open Operator Platform (OpenOP), an open-source initiative developed within ETSI Software Development Group OpenOP (SDG OOP) to support experimentation with telecom capability exposure, edge cloud application deployment, and network federation. During the session, we will present the platform architecture and key components, including the Open Exposure Gateway, Service Resource Manager, Federation Manager, Portal and the AI² module. Live demonstrations will showcase integration with EURECOM’s NEF and Core Simulator, retrieval of device location through CAMARA APIs, Quality on Demand (QoD) session management via the AI² interface, and early federation capabilities across operator domains. Don't miss this opportunity to get up to speed with the latest advancements and engage with the team behind the platform.\n
DTSTART:20260512T130000
DTEND:20260512T140000
DTSTAMP:20260422T132408Z
LOCATION:Online
PRIORITY:5
SEQUENCE:0
SUMMARY;LANGUAGE=es-es:Tecnowebinars.com - :: ETSI OpenOP – enabling Telco Cloud Network Federation & 6G Experimentation
TRANSP:OPAQUE
UID:cb0a1475c2312fc95a8533a86652200e Tecnowebinars.com
X-MICROSOFT-CDO-BUSYSTATUS:BUSY
X-MICROSOFT-CDO-IMPORTANCE:1
X-MICROSOFT-DISALLOW-COUNTER:FALSE
X-MS-OLK-ALLOWEXTERNCHECK:TRUE
X-MS-OLK-AUTOFILLLOCATION:FALSE
X-MS-OLK-CONFTYPE:0
BEGIN:VALARM
TRIGGER:-PT1440M
ACTION:DISPLAY
DESCRIPTION:Reminder
END:VALARM
END:VEVENT
END:VCALENDAR
