BEGIN:VCALENDAR
PRODID:-//Microsoft Corporation//Outlook 12.0 MIMEDIR//EN
VERSION:2.0
METHOD:PUBLISH
X-MS-OLK-FORCEINSPECTOROPEN:TRUE
BEGIN:VEVENT
CLASS:PUBLIC
CREATED:20260422T132939Z
DESCRIPTION:The   webinar will present the values added by AI in the evolution of Autonomous Networks and the importance for the industry to move to AN level4 thanks to the support of AI technologies (e.g. AI for Networks, Network digital twin, AI agents, GenAI for Network, AN for sustainability, AN API, Security in AI).\nDuring the webinar the ETSI Industry Specific Groups (ENI, ZSM)), Software Development Group (Teraflow) and Technical Committees (INT and SAI) will report on the most significant results achieved on the above reported AI technologies.\nThe webinar will present the recently published ETSI White paper edited by OCG AN : AI in the evolution of Autonomous Networks.\nThe Main topics and technologies covered by the event are:\n- The role of AI in AN - Introduction\n- AN Level 4 (definition, opportunities and value for Telco Industry, roadmap)\n- AI Agents for AN\n- GenAI and API for AN\n- Network Digital Twin for AN and Interoperability\n- Security aspects in AI for AN\n
DTSTART:20260521T080000
DTEND:20260521T090000
DTSTAMP:20260422T132939Z
LOCATION:Online
PRIORITY:5
SEQUENCE:0
SUMMARY;LANGUAGE=es-es:Tecnowebinars.com - :: AI in evolution of Autonomous Networks
TRANSP:OPAQUE
UID:b9e1e0fd76c12168375b4926946981e4 Tecnowebinars.com
X-MICROSOFT-CDO-BUSYSTATUS:BUSY
X-MICROSOFT-CDO-IMPORTANCE:1
X-MICROSOFT-DISALLOW-COUNTER:FALSE
X-MS-OLK-ALLOWEXTERNCHECK:TRUE
X-MS-OLK-AUTOFILLLOCATION:FALSE
X-MS-OLK-CONFTYPE:0
BEGIN:VALARM
TRIGGER:-PT1440M
ACTION:DISPLAY
DESCRIPTION:Reminder
END:VALARM
END:VEVENT
END:VCALENDAR
