BEGIN:VCALENDAR
PRODID:-//Microsoft Corporation//Outlook 12.0 MIMEDIR//EN
VERSION:2.0
METHOD:PUBLISH
X-MS-OLK-FORCEINSPECTOROPEN:TRUE
BEGIN:VEVENT
CLASS:PUBLIC
CREATED:20260422T131102Z
DESCRIPTION:Almost all enterprises have invested billions of dollars in various cloud-based solutions. Although it initially looks CFO-friendly due to reduced startup and operating costs, the potential downside of outsized risk can possibly make it more expensive in the long run. It doesn't help that the rapid rise of AI can adversely render all existing cloud protection solutions obsolete.\nIn this presentation, industry thought leader Ralph Villanueva will share his knowledge, experience and expertise in mitigating cloud-based cybersecurity risks to ensure that CIOs are happy with the security blanket around their cloud-based systems, CFOs are happy with the lower budget requirements, and customers are happy with how their data is protected.\nAttendees will learn:\n- Why existing cloud-protection solutions alone will not work.\n- A new way of holistically looking at enterprise cloud security.\n- How to effectively sell their ideas and solutions to crucial decision-makers in the enterprise.\n
DTSTART:20260513T210000
DTEND:20260513T220000
DTSTAMP:20260422T131102Z
LOCATION:Online
PRIORITY:5
SEQUENCE:0
SUMMARY;LANGUAGE=es-es:Tecnowebinars.com - :: Ten New Commandments for a Cost-Effective Cloud Security Strategy
TRANSP:OPAQUE
UID:a71d67f85d839b38c64ccd2ade471ef3 Tecnowebinars.com
X-MICROSOFT-CDO-BUSYSTATUS:BUSY
X-MICROSOFT-CDO-IMPORTANCE:1
X-MICROSOFT-DISALLOW-COUNTER:FALSE
X-MS-OLK-ALLOWEXTERNCHECK:TRUE
X-MS-OLK-AUTOFILLLOCATION:FALSE
X-MS-OLK-CONFTYPE:0
BEGIN:VALARM
TRIGGER:-PT1440M
ACTION:DISPLAY
DESCRIPTION:Reminder
END:VALARM
END:VEVENT
END:VCALENDAR
