BEGIN:VCALENDAR
PRODID:-//Microsoft Corporation//Outlook 12.0 MIMEDIR//EN
VERSION:2.0
METHOD:PUBLISH
X-MS-OLK-FORCEINSPECTOROPEN:TRUE
BEGIN:VEVENT
CLASS:PUBLIC
CREATED:20260422T132735Z
DESCRIPTION:Ready to upgrade your AI prototype?  Join this practical session to master the strategic advantages of deploying distributed AI workloads at the edge. Let our speakers demonstrate how to leverage Akamai Inference Cloud and distributed infrastructure to transform AI workloads into globally distributed, production-ready applications.\nKey takeaways include the technical blueprint and critical insights needed to:\n-Maximize Performance & Low Latency: Deploy inference endpoints closer to your users and data using Akamai Cloud’s globally distributed infrastructure.\n-Achieve Global Scale & Resilience: Orchestrate containerized AI applications across regions with Kubernetes.\n-Optimize Costs & Resources: See how Akamai Cloud delivers the computing primitives (including GPU instances, VM configurations, storage, etc.) for cost-efficient AI workloads.\n-Exercise Choice: Learn how to right-size your compute infrastructure to suit your AI workloads, optimizing for performance, cost, sovereignty, or any other business driver.\nThis session is designed for technical leaders, ML engineers, platform teams, and DevOps professionals who are ready to deploy AI applications that scale globally on a distributed cloud.\n
DTSTART:20260505T060000
DTEND:20260505T070000
DTSTAMP:20260422T132735Z
LOCATION:Online
PRIORITY:5
SEQUENCE:0
SUMMARY;LANGUAGE=es-es:Tecnowebinars.com - :: Ep.3-Build series: How to Deploy Distributed AI at Global Scale
TRANSP:OPAQUE
UID:c39c6907e92fc1fcd74fe48e2893a5ce Tecnowebinars.com
X-MICROSOFT-CDO-BUSYSTATUS:BUSY
X-MICROSOFT-CDO-IMPORTANCE:1
X-MICROSOFT-DISALLOW-COUNTER:FALSE
X-MS-OLK-ALLOWEXTERNCHECK:TRUE
X-MS-OLK-AUTOFILLLOCATION:FALSE
X-MS-OLK-CONFTYPE:0
BEGIN:VALARM
TRIGGER:-PT1440M
ACTION:DISPLAY
DESCRIPTION:Reminder
END:VALARM
END:VEVENT
END:VCALENDAR
