BEGIN:VCALENDAR
PRODID:-//Microsoft Corporation//Outlook 12.0 MIMEDIR//EN
VERSION:2.0
METHOD:PUBLISH
X-MS-OLK-FORCEINSPECTOROPEN:TRUE
BEGIN:VEVENT
CLASS:PUBLIC
CREATED:20260422T115610Z
DESCRIPTION:Preventing outages continues to be a central focus for data center owners and operators. While infrastructure design and resiliency frameworks have improved in many cases, the complexity of modern architectures continues to present new risks that operators must actively manage. Uptime Intelligence’s Annual Outages Analysis 2026 report analyzes recent data on the causes, frequencies and consequences of IT and data center outages.\n
DTSTART:20260513T160000
DTEND:20260513T170000
DTSTAMP:20260422T115610Z
LOCATION:Online
PRIORITY:5
SEQUENCE:0
SUMMARY;LANGUAGE=es-es:Tecnowebinars.com - :: Annual Data Center Outages Analysis 2026
TRANSP:OPAQUE
UID:73775792543fa9aac403c009455ff42a Tecnowebinars.com
X-MICROSOFT-CDO-BUSYSTATUS:BUSY
X-MICROSOFT-CDO-IMPORTANCE:1
X-MICROSOFT-DISALLOW-COUNTER:FALSE
X-MS-OLK-ALLOWEXTERNCHECK:TRUE
X-MS-OLK-AUTOFILLLOCATION:FALSE
X-MS-OLK-CONFTYPE:0
BEGIN:VALARM
TRIGGER:-PT1440M
ACTION:DISPLAY
DESCRIPTION:Reminder
END:VALARM
END:VEVENT
END:VCALENDAR
