BEGIN:VCALENDAR
PRODID:-//Microsoft Corporation//Outlook 12.0 MIMEDIR//EN
VERSION:2.0
METHOD:PUBLISH
X-MS-OLK-FORCEINSPECTOROPEN:TRUE
BEGIN:VEVENT
CLASS:PUBLIC
CREATED:20260420T115112Z
DESCRIPTION:O MicroCloud está se consolidando como uma solução eficiente para quem busca modernizar e simplificar a infraestrutura distribuída, especialmente em ambientes de edge computing e nuvens privadas. Com isso, empresas precisam começar a se preparar para adotar arquiteturas mais leves, escaláveis e resilientes.\nNeste webinar, especialistas vão explicar como o MicroCloud pode transformar sua operação, trazendo mais agilidade, controle e eficiência para ambientes distribuídos.\nO que você vai aprender:\nEntendendo o MicroCloud:\nSaiba o que é o MicroCloud, como ele funciona e por que está se tornando essencial para cenários de edge, infraestruturas descentralizadas e pura virtualização\nEstratégias para adoção:\nConheça as melhores abordagens para implementar MicroCloud no seu ambiente, desde a integração com sistemas existentes até a escolha das ferramentas certas.\nBoas práticas em ambientes distribuídos:\nReceba dicas práticas para garantir alta disponibilidade, segurança e desempenho em arquiteturas baseadas em MicroCloud.\nOrientação dos especialistas:\nAprenda com especialistas como planejar a modernização da sua infraestrutura e preparar seus sistemas para um futuro mais distribuído e eficiente.\nNão deixe para depois - participe e descubra como o MicroCloud pode ajudar sua empresa a evoluir com mais flexibilidade, segurança e performance.\n
DTSTART:20260528T170000
DTEND:20260528T180000
DTSTAMP:20260420T115112Z
LOCATION:Online
PRIORITY:5
SEQUENCE:0
SUMMARY;LANGUAGE=es-es:Tecnowebinars.com - :: MicroCloud: Estratégias de virtualização com custos previsíveis
TRANSP:OPAQUE
UID:c0ad9bf11dbd762688c4d0d40336397e Tecnowebinars.com
X-MICROSOFT-CDO-BUSYSTATUS:BUSY
X-MICROSOFT-CDO-IMPORTANCE:1
X-MICROSOFT-DISALLOW-COUNTER:FALSE
X-MS-OLK-ALLOWEXTERNCHECK:TRUE
X-MS-OLK-AUTOFILLLOCATION:FALSE
X-MS-OLK-CONFTYPE:0
BEGIN:VALARM
TRIGGER:-PT1440M
ACTION:DISPLAY
DESCRIPTION:Reminder
END:VALARM
END:VEVENT
END:VCALENDAR
