BEGIN:VCALENDAR
PRODID:-//Microsoft Corporation//Outlook 12.0 MIMEDIR//EN
VERSION:2.0
METHOD:PUBLISH
X-MS-OLK-FORCEINSPECTOROPEN:TRUE
BEGIN:VEVENT
CLASS:PUBLIC
CREATED:20260420T115137Z
DESCRIPTION:Earn 1.5 CPE Credits on this webinar.\nYesterday’s enterprise ran on a few on‑prem systems with a stable user base and manual controls that were “good enough.” Today’s enterprise operates across 10+ business‑critical applications — SAP, Oracle EBS, Ariba, SuccessFactors, Workday, Salesforce, Manhattan WMS, and more — spanning on‑prem, cloud, hybrid, and SaaS. Each system has its own authorization model, creating blind spots where risks hide, manual checks fail, and audits become long, reactive exercises.\nIn this session, Susan Stapleton — VP of Customer Advisory at Pathlock with 30 years of experience and 160+ global implementations — will outline what true enterprise‑wide access governance looks like in a modern, multi‑application landscape. Through real scenarios across Procure‑to‑Pay, master data, and warehouse operations, she’ll show how cross‑application SoD conflicts emerge, how to unify Access Reviews and emergency access (Firefighter / B‑PAM), and how Continuous Controls Monitoring (CCM) shifts audit from sample‑based testing to real‑time assurance.\nLearning Objectives\n• Why ERP‑centric GRC breaks down and the five essentials of modern governance: visibility beyond ERP, automated certifications, an audit‑ready Firefighter process, CCM, and a single source of truth.\n• How to identify cross‑application SoD risks in end‑to‑end processes like Procure‑to‑Pay.\n• How “Can‑Do” vs. “Did‑Do” analysis reveals real transaction‑level violations.\n• How to design Unified Access Reviews that reduce burden and improve revocations.\n• How to implement B‑PAM with exception policies, time‑bound access, audit trails, and monitoring.\n• How to operationalize CCM for measurable impact: up to 70% cost reduction, 50% task reduction, and 80% risk reduction.\n
DTSTART:20260528T170000
DTEND:20260528T180000
DTSTAMP:20260420T115137Z
LOCATION:Online
PRIORITY:5
SEQUENCE:0
SUMMARY;LANGUAGE=es-es:Tecnowebinars.com - :: CPE | Managing Enterprise Access Risk in a Multi-Application World
TRANSP:OPAQUE
UID:c785fd5a50d941274da9acae0f28cd2e Tecnowebinars.com
X-MICROSOFT-CDO-BUSYSTATUS:BUSY
X-MICROSOFT-CDO-IMPORTANCE:1
X-MICROSOFT-DISALLOW-COUNTER:FALSE
X-MS-OLK-ALLOWEXTERNCHECK:TRUE
X-MS-OLK-AUTOFILLLOCATION:FALSE
X-MS-OLK-CONFTYPE:0
BEGIN:VALARM
TRIGGER:-PT1440M
ACTION:DISPLAY
DESCRIPTION:Reminder
END:VALARM
END:VEVENT
END:VCALENDAR
