BEGIN:VCALENDAR
PRODID:-//Microsoft Corporation//Outlook 12.0 MIMEDIR//EN
VERSION:2.0
METHOD:PUBLISH
X-MS-OLK-FORCEINSPECTOROPEN:TRUE
BEGIN:VEVENT
CLASS:PUBLIC
CREATED:20260422T120455Z
DESCRIPTION:Earn 1.0 CPE credit while building the foundation that makes system-driven revenue recognition actually work.\nMost revenue system projects start with the wrong question. Companies spend months evaluating platforms and debating architecture — then hit implementation and find the data can’t support what they’ve designed. Requirements were assumed, not defined. Gaps weren’t mapped. Legacy data wasn’t prepared.\nThis session starts where the work actually begins. Patrick Herrmann, Solution Architect and Principal Consultant at Ravus, walks through how to define revenue-critical data requirements, assess what your current systems can support, and close the gaps that produce incorrect allocations, timing misstatements, and audit adjustments down the road.\nWhat You’ll Learn:\nAfter completing this session, participants will be able to:\n• Identify the data elements required to support ASC 606/IFRS 15 compliance — including contracts, performance obligations, pricing components, and billing schedules\n• Assess how well commercial structures (product catalog, quoting, billing) align to the correct accounting treatment for each revenue stream\n• Pinpoint data readiness gaps that commonly produce incorrect revenue allocation, timing misstatements, or audit adjustments\n• Outline the steps required to prepare legacy data and establish systems of record ahead of a future-state revenue architecture migration\n• Evaluate current tools and processes against what a sustainable, auditable, system-driven revenue program actually requires\nCPE Details:\nCredit: 1.0 hour  |  Field of Study: Accounting  |  Level: Intermediate\nDelivery: Group Internet-Based\nPrerequisites: Basic understanding of ASC 606/IFRS 15 principles\n
DTSTART:20260528T150000
DTEND:20260528T160000
DTSTAMP:20260422T120455Z
LOCATION:Online
PRIORITY:5
SEQUENCE:0
SUMMARY;LANGUAGE=es-es:Tecnowebinars.com - :: Implementing Revenue Systems That Scale: From Data to Audit-Ready | Session 1 of 4
TRANSP:OPAQUE
UID:4b0b7b6c49b59cc8e6fc8e9661965c98 Tecnowebinars.com
X-MICROSOFT-CDO-BUSYSTATUS:BUSY
X-MICROSOFT-CDO-IMPORTANCE:1
X-MICROSOFT-DISALLOW-COUNTER:FALSE
X-MS-OLK-ALLOWEXTERNCHECK:TRUE
X-MS-OLK-AUTOFILLLOCATION:FALSE
X-MS-OLK-CONFTYPE:0
BEGIN:VALARM
TRIGGER:-PT1440M
ACTION:DISPLAY
DESCRIPTION:Reminder
END:VALARM
END:VEVENT
END:VCALENDAR
