BEGIN:VCALENDAR
PRODID:-//Microsoft Corporation//Outlook 12.0 MIMEDIR//EN
VERSION:2.0
METHOD:PUBLISH
X-MS-OLK-FORCEINSPECTOROPEN:TRUE
BEGIN:VEVENT
CLASS:PUBLIC
CREATED:20260420T114731Z
DESCRIPTION:AI is rapidly reshaping how employees work—often outside the visibility of IT and security teams. Across your organisation, users may already be turning to unauthorised AI tools or uploading content to social media platforms as part of their daily workflow. While these tools can boost productivity, they also create significant blind spots, expand your attack surface, and introduce new compliance risks.\nAt the same time, securing today’s distributed environments has never been more complex. Traditional DNS filtering can’t see inside encrypted traffic, can’t inspect outbound uploads, and can’t keep pace with fast‑moving, AI‑driven user behaviour. IT and security teams are expected to maintain strong, consistent protection while balancing pressure for efficiency and seamless user experience.\nIf you’re navigating limited IT resources, rising security costs, or increasing regulatory pressure, this session will show you a simpler, more strategic way forward.\n
DTSTART:20260512T090000
DTEND:20260512T100000
DTSTAMP:20260420T114731Z
LOCATION:Online
PRIORITY:5
SEQUENCE:0
SUMMARY;LANGUAGE=es-es:Tecnowebinars.com - :: Protecting your organisation in the age of shadow AI
TRANSP:OPAQUE
UID:3fa02e97739646eff06fa3b96375cad2 Tecnowebinars.com
X-MICROSOFT-CDO-BUSYSTATUS:BUSY
X-MICROSOFT-CDO-IMPORTANCE:1
X-MICROSOFT-DISALLOW-COUNTER:FALSE
X-MS-OLK-ALLOWEXTERNCHECK:TRUE
X-MS-OLK-AUTOFILLLOCATION:FALSE
X-MS-OLK-CONFTYPE:0
BEGIN:VALARM
TRIGGER:-PT1440M
ACTION:DISPLAY
DESCRIPTION:Reminder
END:VALARM
END:VEVENT
END:VCALENDAR
