BEGIN:VCALENDAR
PRODID:-//Microsoft Corporation//Outlook 12.0 MIMEDIR//EN
VERSION:2.0
METHOD:PUBLISH
X-MS-OLK-FORCEINSPECTOROPEN:TRUE
BEGIN:VEVENT
CLASS:PUBLIC
CREATED:20260420T115229Z
DESCRIPTION:I dipendenti della tua azienda potrebbero utilizzare strumenti di intelligenza artificiale non autorizzati e caricare contenuti sui social media quotidianamente, creando punti ciechi in termini di sicurezza e rischi per la conformità.\nIl filtro DNS tradizionale non è in grado di vedere all'interno del traffico crittografato né di ispezionare ciò che viene caricato.\nPartecipa a questo webinar per scoprire come la piattaforma SecureEdge di Barracuda ti aiuta a ottenere visibilità sull'utilizzo di “shadow AI”, bloccare strumenti non autorizzati e ispezionare gli upload sui social media per individuare minacce e violazioni delle policy, il tutto da un'unica piattaforma cloud facile da usare.\nSe hai difficoltà con risorse IT limitate, costi di sicurezza in aumento o requisiti di conformità complessi, questo webinar ti mostrerà un percorso più semplice da seguire.\n
DTSTART:20260519T080000
DTEND:20260519T090000
DTSTAMP:20260420T115229Z
LOCATION:Online
PRIORITY:5
SEQUENCE:0
SUMMARY;LANGUAGE=es-es:Tecnowebinars.com - :: Dall'intelligenza artificiale ombra all'accesso sicuro: semplificazione del SASE per le PMI
TRANSP:OPAQUE
UID:74d6ddeb7f5bae4999ba1c14f39bf560 Tecnowebinars.com
X-MICROSOFT-CDO-BUSYSTATUS:BUSY
X-MICROSOFT-CDO-IMPORTANCE:1
X-MICROSOFT-DISALLOW-COUNTER:FALSE
X-MS-OLK-ALLOWEXTERNCHECK:TRUE
X-MS-OLK-AUTOFILLLOCATION:FALSE
X-MS-OLK-CONFTYPE:0
BEGIN:VALARM
TRIGGER:-PT1440M
ACTION:DISPLAY
DESCRIPTION:Reminder
END:VALARM
END:VEVENT
END:VCALENDAR
