BEGIN:VCALENDAR
PRODID:-//Microsoft Corporation//Outlook 12.0 MIMEDIR//EN
VERSION:2.0
METHOD:PUBLISH
X-MS-OLK-FORCEINSPECTOROPEN:TRUE
BEGIN:VEVENT
CLASS:PUBLIC
CREATED:20260420T115003Z
DESCRIPTION:Los empleados de su organización pueden estar utilizando herramientas de IA no autorizadas y subiendo contenido a redes sociales a diario, creando puntos ciegos de seguridad y riesgos de cumplimiento normativo.\nLos filtros DNS tradicionales no pueden inspeccionar el tráfico cifrado ni analizar qué información se está cargando en aplicaciones SaaS o plataformas sociales.\nLe invitamos a este webinar en directo, donde descubrirá cómo Barracuda SecureEdge le permite obtener visibilidad sobre el uso de Shadow AI, bloquear herramientas no autorizadas e inspeccionar cargas a redes sociales en busca de amenazas y violaciones de políticas, todo desde una única plataforma cloud, sencilla de gestionar.\nSi su equipo de TI dispone de recursos limitados, se enfrenta a costes crecientes de seguridad o a requisitos de cumplimiento cada vez más complejos, este webinar le mostrará un camino más sencillo y eficaz.\nEsperamos contar con su participación.\n
DTSTART:20260520T080000
DTEND:20260520T090000
DTSTAMP:20260420T115003Z
LOCATION:Online
PRIORITY:5
SEQUENCE:0
SUMMARY;LANGUAGE=es-es:Tecnowebinars.com - :: De la Shadow AI al acceso seguro: Cómo simplificar SASE para las empresas
TRANSP:OPAQUE
UID:157863476078007958d6d35f3e6d721c Tecnowebinars.com
X-MICROSOFT-CDO-BUSYSTATUS:BUSY
X-MICROSOFT-CDO-IMPORTANCE:1
X-MICROSOFT-DISALLOW-COUNTER:FALSE
X-MS-OLK-ALLOWEXTERNCHECK:TRUE
X-MS-OLK-AUTOFILLLOCATION:FALSE
X-MS-OLK-CONFTYPE:0
BEGIN:VALARM
TRIGGER:-PT1440M
ACTION:DISPLAY
DESCRIPTION:Reminder
END:VALARM
END:VEVENT
END:VCALENDAR
