BEGIN:VCALENDAR
PRODID:-//Microsoft Corporation//Outlook 12.0 MIMEDIR//EN
VERSION:2.0
METHOD:PUBLISH
X-MS-OLK-FORCEINSPECTOROPEN:TRUE
BEGIN:VEVENT
CLASS:PUBLIC
CREATED:20260420T115408Z
DESCRIPTION:Sovereign cloud cannot rely on policy documents and network diagrams. It must be enforceable by design.\nCloud providers are being asked a harder question: if a region is compromised—or a legal order is issued elsewhere—can you prove that customer data in another jurisdiction is technically unreachable?\nThis session presents a pragmatic architecture implemented with k0rdent, a multi-cluster Kubernetes management platform, where sovereignty is enforced at three levels:\n• Network isolation: Regions operate default-deny. Connectivity exists only via explicit interconnect. There is no east–west trust.\n• Data in transit: Each region has its own certificate chain. mTLS is enforced with region-scoped intermediates. Cross-region authentication fails at the TLS layer—even if routing is present.\n• Data at rest: Control-plane secrets and configuration are encrypted with region-bound keys (HSM-backed via KMS v2). Object storage—S3, Blob, OpenStack Swift—stores encrypted artefacts only. Without the regional key, data cannot be decrypted.\nWe will walk through practical implementation details: certificate lifecycle at scale, sovereign disaster recovery that rebuilds a region without violating residency, and operating across AWS, Azure, OpenStack, and national cloud providers.\nFor cloud providers building EU or national sovereign offerings, this talk focuses on what you must implement—now—to make sovereignty technically defensible, not operationally assumed.\n
DTSTART:20260513T160000
DTEND:20260513T170000
DTSTAMP:20260420T115408Z
LOCATION:Online
PRIORITY:5
SEQUENCE:0
SUMMARY;LANGUAGE=es-es:Tecnowebinars.com - :: True Cloud Sovereignty: Enforcing Regional Boundaries in Kubernetes
TRANSP:OPAQUE
UID:50999b4eb18fca8a10eb39d24a1f29b5 Tecnowebinars.com
X-MICROSOFT-CDO-BUSYSTATUS:BUSY
X-MICROSOFT-CDO-IMPORTANCE:1
X-MICROSOFT-DISALLOW-COUNTER:FALSE
X-MS-OLK-ALLOWEXTERNCHECK:TRUE
X-MS-OLK-AUTOFILLLOCATION:FALSE
X-MS-OLK-CONFTYPE:0
BEGIN:VALARM
TRIGGER:-PT1440M
ACTION:DISPLAY
DESCRIPTION:Reminder
END:VALARM
END:VEVENT
END:VCALENDAR
