BEGIN:VCALENDAR
PRODID:-//Microsoft Corporation//Outlook 12.0 MIMEDIR//EN
VERSION:2.0
METHOD:PUBLISH
X-MS-OLK-FORCEINSPECTOROPEN:TRUE
BEGIN:VEVENT
CLASS:PUBLIC
CREATED:20260422T115922Z
DESCRIPTION:AI coding assistants are already in your SDLC; 57% of developers use them despite organizational policies against it. But the question isn't whether AI-generated code is secure. The question is: what context are your developers and their AI agents using to make security decisions?\nLLMs encode general patterns from training data, but they don't know your threat model, your triage history, or your architectural constraints. The organizations winning at AI-powered security aren't those with the cleanest data pipelines; they're those who've built trust contracts between three types of context: Facts (structured vulnerability data), History (accumulated triage decisions), and Opinion (expert judgment, encoded and scaled).\nThis webinar introduces ContextAI: a framework for empowering developers to make informed security decisions in-situ, at the speed of AI-driven development, before pipeline bottlenecks collapse your DevSecOps feedback loop.\n
DTSTART:20260528T090000
DTEND:20260528T100000
DTSTAMP:20260422T115922Z
LOCATION:Online
PRIORITY:5
SEQUENCE:0
SUMMARY;LANGUAGE=es-es:Tecnowebinars.com - :: Dr. StrangeBot: How I Learned to Stop Worrying & Love Diverse Security Data
TRANSP:OPAQUE
UID:df3eb9a7d23648e57e38dc48c08ac2fe Tecnowebinars.com
X-MICROSOFT-CDO-BUSYSTATUS:BUSY
X-MICROSOFT-CDO-IMPORTANCE:1
X-MICROSOFT-DISALLOW-COUNTER:FALSE
X-MS-OLK-ALLOWEXTERNCHECK:TRUE
X-MS-OLK-AUTOFILLLOCATION:FALSE
X-MS-OLK-CONFTYPE:0
BEGIN:VALARM
TRIGGER:-PT1440M
ACTION:DISPLAY
DESCRIPTION:Reminder
END:VALARM
END:VEVENT
END:VCALENDAR
