BEGIN:VCALENDAR
PRODID:-//Microsoft Corporation//Outlook 12.0 MIMEDIR//EN
VERSION:2.0
METHOD:PUBLISH
X-MS-OLK-FORCEINSPECTOROPEN:TRUE
BEGIN:VEVENT
CLASS:PUBLIC
CREATED:20260421T102901Z
DESCRIPTION:What once appeared as spontaneous acts of digital protest is now being strategically weaponized by nation-states and mercenary groups to obscure intent, disrupt operations, and manipulate global narratives.\nJoin this session with Senior Threat Researcher Jim Walter as he explores how malicious hacktivist activity is being leveraged by nation-states and mercenary groups.\nThrough technical case studies and geopolitical analysis, he will examine how these actors blend ransomware, data leaks, DDoS, and psychological operations under activist façades—creating significant challenges for attribution, response, and long-term threat modeling. He will also review existing, and still highly-prolific, traditional hacktivist groups, and their role in the current landscape.\nKey Takeaways:\n-Recent real-world case studies and geopolitical context\n-How state-backed and proxy actors use “hacktivism” as cover for cyber warfare\n-What makes attribution and response increasingly complex\n-The evolving role of traditional hacktivist groups in today’s conflict-driven landscape\nAbout the speaker:\nJim Walter is a Senior Threat Researcher at SentinelOne focusing on evolving trends, actors, and tactics within the thriving ecosystem of cybercrime and crimeware.\n
DTSTART:20260310T180000
DTEND:20260310T190000
DTSTAMP:20260421T102901Z
LOCATION:Online
PRIORITY:5
SEQUENCE:0
SUMMARY;LANGUAGE=es-es:Tecnowebinars.com - :: SentinelOne Research: Malicious Activism and Nation-State Fronts in Times of Conflict
TRANSP:OPAQUE
UID:352aef03dec0c87dc3dfee26669a5f9c Tecnowebinars.com
X-MICROSOFT-CDO-BUSYSTATUS:BUSY
X-MICROSOFT-CDO-IMPORTANCE:1
X-MICROSOFT-DISALLOW-COUNTER:FALSE
X-MS-OLK-ALLOWEXTERNCHECK:TRUE
X-MS-OLK-AUTOFILLLOCATION:FALSE
X-MS-OLK-CONFTYPE:0
BEGIN:VALARM
TRIGGER:-PT1440M
ACTION:DISPLAY
DESCRIPTION:Reminder
END:VALARM
END:VEVENT
END:VCALENDAR
