BEGIN:VCALENDAR
PRODID:-//Microsoft Corporation//Outlook 12.0 MIMEDIR//EN
VERSION:2.0
METHOD:PUBLISH
X-MS-OLK-FORCEINSPECTOROPEN:TRUE
BEGIN:VEVENT
CLASS:PUBLIC
CREATED:20260420T103752Z
DESCRIPTION:Complex pharmaceutical and chemical manufacturing environments need real-time access to accurate production data for operational excellence. This session presented by CEO Andreas Eschbach will explore how an intelligent operations platform can enable companies to build a visual factory that enhances cross-functional alignment. Using AI-driven dashboards, an IOP creates an intelligent and transparent decision-making framework at every organizational level, giving teams a shared, real-time view of key performance indicators, priorities, and emerging issues.\nAttendees will learn how creating a visual factory can break down information silos by linking disparate data sources and presenting insights in a clear, actionable format that strengthens communication across shifts, departments, and leadership layers. Andreas will share real-world examples of how creating an intelligent operations decision approach supports continuous improvement, accelerates issue resolution, and reinforces data integrity. Manufacturing leaders will come away from this session with a roadmap for implementing intelligent practices that elevate performance, increase transparency, and amplify human decision-making across their organization.\n
DTSTART:20260526T120000
DTEND:20260526T130000
DTSTAMP:20260420T103752Z
LOCATION:Online
PRIORITY:5
SEQUENCE:0
SUMMARY;LANGUAGE=es-es:Tecnowebinars.com - :: Roadmap to Excellence: Use AI to Enable Continuous Improvement for Complex Environments
TRANSP:OPAQUE
UID:a8ecf131b6716788d766169f7c156fba Tecnowebinars.com
X-MICROSOFT-CDO-BUSYSTATUS:BUSY
X-MICROSOFT-CDO-IMPORTANCE:1
X-MICROSOFT-DISALLOW-COUNTER:FALSE
X-MS-OLK-ALLOWEXTERNCHECK:TRUE
X-MS-OLK-AUTOFILLLOCATION:FALSE
X-MS-OLK-CONFTYPE:0
BEGIN:VALARM
TRIGGER:-PT1440M
ACTION:DISPLAY
DESCRIPTION:Reminder
END:VALARM
END:VEVENT
END:VCALENDAR
