BEGIN:VCALENDAR
PRODID:-//Microsoft Corporation//Outlook 12.0 MIMEDIR//EN
VERSION:2.0
METHOD:PUBLISH
X-MS-OLK-FORCEINSPECTOROPEN:TRUE
BEGIN:VEVENT
CLASS:PUBLIC
CREATED:20260419T134402Z
DESCRIPTION:Hard to believe the integration between CloudGuard Network Security and Azure Virtual WAN is almost 3 years old already!  Perfect time for a knowledge refresh!\nIn this Under the Hood webinar we will cover:\n- Step-by-step instructions on how to upgrade your CloudGuard Network Security deployment\n- Lessons learned since the integration was announced\n- Integration Roadmap\n- Q&A\nHope to see you there!\n
DTSTART:20260224T160000
DTEND:20260224T170000
DTSTAMP:20260419T134402Z
LOCATION:Online
PRIORITY:5
SEQUENCE:0
SUMMARY;LANGUAGE=es-es:Tecnowebinars.com - :: CloudGuard Network Security for Azure Virtual WAN - Upgrading, Lessons Learned, Roadmap, and Q&A
TRANSP:OPAQUE
UID:735db491b312031327d21fc6885c83b3 Tecnowebinars.com
X-MICROSOFT-CDO-BUSYSTATUS:BUSY
X-MICROSOFT-CDO-IMPORTANCE:1
X-MICROSOFT-DISALLOW-COUNTER:FALSE
X-MS-OLK-ALLOWEXTERNCHECK:TRUE
X-MS-OLK-AUTOFILLLOCATION:FALSE
X-MS-OLK-CONFTYPE:0
BEGIN:VALARM
TRIGGER:-PT1440M
ACTION:DISPLAY
DESCRIPTION:Reminder
END:VALARM
END:VEVENT
END:VCALENDAR
