BEGIN:VCALENDAR
PRODID:-//Microsoft Corporation//Outlook 12.0 MIMEDIR//EN
VERSION:2.0
METHOD:PUBLISH
X-MS-OLK-FORCEINSPECTOROPEN:TRUE
BEGIN:VEVENT
CLASS:PUBLIC
CREATED:20260419T172414Z
DESCRIPTION:Compartiré mi visión y aportaré herramientas para gestionar el cambio de una manera efectiva. Olvídate del caos y descubre cómo:\n \nMantener la calma en pleno proceso de cambio.\n \nConseguir que tu equipo vea el cambio como una aventura, no como una amenaza.\n \nConvertir los inevitables obstáculos en oportunidades reales.\n \n
DTSTART:20250630T160000
DTEND:20250630T170000
DTSTAMP:20260419T172414Z
LOCATION:Online
PRIORITY:5
SEQUENCE:0
SUMMARY;LANGUAGE=es-es:Tecnowebinars.com - :: Cómo he vivido la gestión del cambio dentro de un proyecto de transformación
TRANSP:OPAQUE
UID:9f580b3aec5334d104def48d4b16e4c4 Tecnowebinars.com
X-MICROSOFT-CDO-BUSYSTATUS:BUSY
X-MICROSOFT-CDO-IMPORTANCE:1
X-MICROSOFT-DISALLOW-COUNTER:FALSE
X-MS-OLK-ALLOWEXTERNCHECK:TRUE
X-MS-OLK-AUTOFILLLOCATION:FALSE
X-MS-OLK-CONFTYPE:0
BEGIN:VALARM
TRIGGER:-PT1440M
ACTION:DISPLAY
DESCRIPTION:Reminder
END:VALARM
END:VEVENT
END:VCALENDAR
