BEGIN:VCALENDAR
PRODID:-//Microsoft Corporation//Outlook 12.0 MIMEDIR//EN
VERSION:2.0
METHOD:PUBLISH
X-MS-OLK-FORCEINSPECTOROPEN:TRUE
BEGIN:VEVENT
CLASS:PUBLIC
CREATED:20260419T172414Z
DESCRIPTION: "De los valores al compromiso real"\n \nUn taller dinámico, vivencial y provocador que rompe con las viejas fórmulas de cambio cultural para dar paso a una transformación ágil, visual y conectada con lo humano.\n \nA través del juego La Diana de los Valores, descubrirás cómo facilitar conversaciones poderosas que activan la cultura desde dentro, generando en menos de 2 horas resultados reales, compromisos compartidos y un propósito alineado.\n \nIdeal para quienes creen que la cultura no se cambia con discursos... sino con experiencias que dejan huella.\n \n¿Te atreves a jugar (de verdad)?\n \n¿Dónde se ha llevado a cabo este taller?\n \nDesde que nació hace año y medio, el juego La Diana de los Valores ha sido testado y validado en múltiples\n \ncontextos: Equipos reales de empresa como Campofrío, Renault o Fundación Personas entre otros, donde ha impulsado conversaciones profundas y compromisos alineados con la estrategia.\n \nFormaciones para profesionales de RRHH y consultores, tanto en programas organizados directamente por mí como en entornos académicos como La Salle – Escuela de Negocios de Madrid.\n
DTSTART:20250626T180000
DTEND:20250626T180000
DTSTAMP:20260419T172414Z
LOCATION:Online
PRIORITY:5
SEQUENCE:0
SUMMARY;LANGUAGE=es-es:Tecnowebinars.com - :: Rompe las reglas del juego en la transformación cultural
TRANSP:OPAQUE
UID:cf0172fbcb222660d6e1690abc25bed1 Tecnowebinars.com
X-MICROSOFT-CDO-BUSYSTATUS:BUSY
X-MICROSOFT-CDO-IMPORTANCE:1
X-MICROSOFT-DISALLOW-COUNTER:FALSE
X-MS-OLK-ALLOWEXTERNCHECK:TRUE
X-MS-OLK-AUTOFILLLOCATION:FALSE
X-MS-OLK-CONFTYPE:0
BEGIN:VALARM
TRIGGER:-PT1440M
ACTION:DISPLAY
DESCRIPTION:Reminder
END:VALARM
END:VEVENT
END:VCALENDAR
