BEGIN:VCALENDAR
PRODID:-//Microsoft Corporation//Outlook 12.0 MIMEDIR//EN
VERSION:2.0
METHOD:PUBLISH
X-MS-OLK-FORCEINSPECTOROPEN:TRUE
BEGIN:VEVENT
CLASS:PUBLIC
CREATED:20260419T171127Z
DESCRIPTION:Lleva DevOps al siguiente nivel\n \nEl creciente número de ciberataques se ha convertido en una amenaza constante, no solo para las empresas, sino para la sociedad en su conjunto.\n \nEn este contexto desarrollar software sin tener en cuenta la seguridad desde las primeras fases ya no es una opción.\n \nEste webinar está dirigido a equipos de desarrollo de software que quieran entender por qué la seguridad debe ser parte integral del ciclo de vida del software, desde una perspectiva DevOps.\n \nHablaremos sobre cómo integrar la seguridad desde el inicio (DevSecOps) y cómo esto no sólo mejora la calidad del software, sino que reduce riesgos y costes a largo plazo.\nAdemás presentaremos SECURITI, una plataforma integral que ofrece análisis continuo de seguridad en el código, identificando vulnerabilidades de forma precisa y garantizando un desarrollo de software más seguro y eficiente. Verás cómo esta herramienta puede facilitar la incorporación de buenas prácticas de seguridad en tus proyectos, de forma ágil, automatizada y alineada con tus flujos de trabajo.\n \n¿Por qué es clave hablar de seguridad hoy?\n \n¿Cómo afecta a los equipos de desarrollo y a sus entregas?·\n \n¿Qué buenas prácticas podemos aplicar desde ya?\n \n¿Cómo nos ayuda SECURITI en este proceso?\n \nÚnete a nosotros y lleva tu enfoque DevOps al siguiente nivel, integrando seguridad de forma nativa y proactiva.\n
DTSTART:20250703T110000
DTEND:20250703T120000
DTSTAMP:20260419T171127Z
LOCATION:Online
PRIORITY:5
SEQUENCE:0
SUMMARY;LANGUAGE=es-es:Tecnowebinars.com - :: DevSecOps en acción: aplicando seguridad a tus desarrollos
TRANSP:OPAQUE
UID:b4f66e19d5916c0f7f1f3aeb17bac0d2 Tecnowebinars.com
X-MICROSOFT-CDO-BUSYSTATUS:BUSY
X-MICROSOFT-CDO-IMPORTANCE:1
X-MICROSOFT-DISALLOW-COUNTER:FALSE
X-MS-OLK-ALLOWEXTERNCHECK:TRUE
X-MS-OLK-AUTOFILLLOCATION:FALSE
X-MS-OLK-CONFTYPE:0
BEGIN:VALARM
TRIGGER:-PT1440M
ACTION:DISPLAY
DESCRIPTION:Reminder
END:VALARM
END:VEVENT
END:VCALENDAR
