BEGIN:VCALENDAR
PRODID:-//Microsoft Corporation//Outlook 12.0 MIMEDIR//EN
VERSION:2.0
METHOD:PUBLISH
X-MS-OLK-FORCEINSPECTOROPEN:TRUE
BEGIN:VEVENT
CLASS:PUBLIC
CREATED:20260419T184336Z
DESCRIPTION:Automatización Inteligente en la Logística 5.0 Robots, datos y decisiones en tiempo real: el presente ya no espera\n \nLa cadena de suministro está atravesando una transformación sin precedentes. La automatización, la inteligencia artificial y la robótica autónoma están dejando de ser una promesa para convertirse en una ventaja competitiva real.\n \n¿Estás preparado para liderar ese cambio?\n \nEn este webinar, dentro del marco de la serie "de Logistica 5.0", reunimos a expertos que están rediseñando las reglas del juego logístico. Descubrirás cómo las empresas más innovadoras están aplicando tecnología avanzada para maximizar su eficiencia operativa, reducir costes y ganar velocidad.\n \n¿A quién va dirigido este evento?\n \nResponsables de logística, operaciones e innovación.\nDirectores de transformación digital y tecnología.\nEmpresas que quieren automatizar procesos logísticos sin complicaciones.\nProfesionales que buscan inspiración real y soluciones prácticas para sus retos diarios.\n
DTSTART:20250716T160000
DTEND:20250716T170000
DTSTAMP:20260419T184336Z
LOCATION:Online
PRIORITY:5
SEQUENCE:0
SUMMARY;LANGUAGE=es-es:Tecnowebinars.com - :: Manejo de pallets con robots (APR) de Tusk
TRANSP:OPAQUE
UID:617a94f3bd9828cd6756f8fe6ca83fb0 Tecnowebinars.com
X-MICROSOFT-CDO-BUSYSTATUS:BUSY
X-MICROSOFT-CDO-IMPORTANCE:1
X-MICROSOFT-DISALLOW-COUNTER:FALSE
X-MS-OLK-ALLOWEXTERNCHECK:TRUE
X-MS-OLK-AUTOFILLLOCATION:FALSE
X-MS-OLK-CONFTYPE:0
BEGIN:VALARM
TRIGGER:-PT1440M
ACTION:DISPLAY
DESCRIPTION:Reminder
END:VALARM
END:VEVENT
END:VCALENDAR
