BEGIN:VCALENDAR
PRODID:-//Microsoft Corporation//Outlook 12.0 MIMEDIR//EN
VERSION:2.0
METHOD:PUBLISH
X-MS-OLK-FORCEINSPECTOROPEN:TRUE
BEGIN:VEVENT
CLASS:PUBLIC
CREATED:20260419T185446Z
DESCRIPTION:Las tecnologías de IA pueden habilitar y respaldar funciones empresariales esenciales. Sin embargo, las organizaciones deben contar con una base sólida para aportar valor a su estrategia empresarial. Una implementación exitosa requiere de una cuidadosa planeación y ejecución, con un enfoque reflexivo que equilibre a las personas, los procesos y la tecnología. Conoce los principales retos y cómo enfrentarlos.\n \n
DTSTART:20250709T160000
DTEND:20250709T170000
DTSTAMP:20260419T185446Z
LOCATION:Online
PRIORITY:5
SEQUENCE:0
SUMMARY;LANGUAGE=es-es:Tecnowebinars.com - :: Cómo lograr una implementación exitosa de la IA en tu empresa. Enfoque estratégica.
TRANSP:OPAQUE
UID:b5fd22a967f4bb929eaf2c83c78711df Tecnowebinars.com
X-MICROSOFT-CDO-BUSYSTATUS:BUSY
X-MICROSOFT-CDO-IMPORTANCE:1
X-MICROSOFT-DISALLOW-COUNTER:FALSE
X-MS-OLK-ALLOWEXTERNCHECK:TRUE
X-MS-OLK-AUTOFILLLOCATION:FALSE
X-MS-OLK-CONFTYPE:0
BEGIN:VALARM
TRIGGER:-PT1440M
ACTION:DISPLAY
DESCRIPTION:Reminder
END:VALARM
END:VEVENT
END:VCALENDAR
