BEGIN:VCALENDAR
PRODID:-//Microsoft Corporation//Outlook 12.0 MIMEDIR//EN
VERSION:2.0
METHOD:PUBLISH
X-MS-OLK-FORCEINSPECTOROPEN:TRUE
BEGIN:VEVENT
CLASS:PUBLIC
CREATED:20260419T173409Z
DESCRIPTION:La gestión de efluentes en la industria alimentaria\nya no es solo un requisito legal: es una ventaja estratégica. Cada año, miles de plantas enfrentan multas millonarias, daños reputacionales y pérdidas de eficiencia por una gestión inadecuada de sus aguas residuales. Altas cargas orgánicas, grasas y vertidos variables exigen soluciones que combinen tecnología, sostenibilidad y adaptabilidad. En un contexto de regulaciones más estrictas y consumidores exigentes, optimizar estos procesos no solo protege el medio ambiente, sino que reduce costos operativos y abre puertas a modelos circulares innovadores.\n¿Cómo convertir los efluentes en una oportunidad?\nEste webinar explorará herramientas inteligentes— desde sensores ópticos, prensas especiales hasta sistemas de reúso de agua— que están revolucionando la industria. Descubra casos reales, tendencias globales y estrategias para cumplir normativas mientras impulsa la rentabilidad de su operación. Un espacio para líderes que buscan transformar desafíos en ventajas competitivas.\nObjetivos específicos:\nAnalizar desafíos específicos de la industria alimentaria (ej.: alta carga orgánica, grasas, nutrientes).\nPresentar tecnologías innovadoras para el tratamiento y monitoreo de efluentes.\nPromover prácticas sostenibles y económicamente viables.\nRevisar marcos normativos y estrategias para cumplirlos.\nQuienes deberían asistir:\n-Directores de Control de Calidad\n-Gerentes de Investigación, Desarrollo e Innovación (I+D+i)\n-Jefes de Producción en plantas de alimentos\n-Especialistas en Procesos de Alimentos y Grasas\n-Gerentes de Operaciones en la industria alimentaria\n-Responsables de Aseguramiento de la Calidad (QA)\n-Ingenieros de Procesos y Automatización Industrial\n-Consultores en Optimización de Procesos Productivos\n-Directores de Tecnología e Innovación en alimentos \n-Ingenieros ambientales y de procesos en la industria alimentaria.\n-Técnicos en Laboratorios de Control de Calidad\n-Jefes de Producción de Chocolates, Margarinas y Grasas\n-Especialistas en Sostenibilidad y Eficiencia Energética\n-Responsables de sostenibilidad y compliance.\n-Asesores en Cumplimiento Regulatorio y Normativo\n-Consultores en tratamiento de aguas residuales.\n-Empresas de tecnología y startups enfocadas en gestión de efluentes.\n-Autoridades regulatorias y académicos.\n
DTSTART:20250703T160000
DTEND:20250703T170000
DTSTAMP:20260419T173409Z
LOCATION:Online
PRIORITY:5
SEQUENCE:0
SUMMARY;LANGUAGE=es-es:Tecnowebinars.com - :: Efluentes industriales en la Industria alimentaria: digitalización, trazabilidad y análisis
TRANSP:OPAQUE
UID:92ba7e49b337d7eb8999a4e9d8bd715e Tecnowebinars.com
X-MICROSOFT-CDO-BUSYSTATUS:BUSY
X-MICROSOFT-CDO-IMPORTANCE:1
X-MICROSOFT-DISALLOW-COUNTER:FALSE
X-MS-OLK-ALLOWEXTERNCHECK:TRUE
X-MS-OLK-AUTOFILLLOCATION:FALSE
X-MS-OLK-CONFTYPE:0
BEGIN:VALARM
TRIGGER:-PT1440M
ACTION:DISPLAY
DESCRIPTION:Reminder
END:VALARM
END:VEVENT
END:VCALENDAR
